BEGIN:VCALENDAR
VERSION:2.0
PRODID:-//Site de la commune des Achards - ECPv6.10.3//NONSGML v1.0//EN
CALSCALE:GREGORIAN
METHOD:PUBLISH
X-ORIGINAL-URL:https://www.lesachards.com
X-WR-CALDESC:Évènements pour Site de la commune des Achards
REFRESH-INTERVAL;VALUE=DURATION:PT1H
X-Robots-Tag:noindex
X-PUBLISHED-TTL:PT1H
BEGIN:VTIMEZONE
TZID:Europe/Paris
BEGIN:DAYLIGHT
TZOFFSETFROM:+0100
TZOFFSETTO:+0200
TZNAME:CEST
DTSTART:20250330T010000
END:DAYLIGHT
BEGIN:STANDARD
TZOFFSETFROM:+0200
TZOFFSETTO:+0100
TZNAME:CET
DTSTART:20251026T010000
END:STANDARD
END:VTIMEZONE
BEGIN:VEVENT
DTSTART;TZID=Europe/Paris:20250207T203000
DTEND;TZID=Europe/Paris:20250223T150000
DTSTAMP:20260419T135547
CREATED:20250102T154104Z
LAST-MODIFIED:20250102T154104Z
UID:37191-1738960200-1740322800@www.lesachards.com
SUMMARY:COMÉDIE "L'ORIGINE DU MONDE"
DESCRIPTION:Changement de programmation ! La pièce « Les amis du placard » est remplacée par la comédie « L’origine du monde ». \nUn soir\, en rentrant chez lui\, Jean-Louis constate que son cœur ne bat plus. Ce n’est pas surprenant pour sa femme\, qui lui reproche de ne pas en avoir. C’est plutôt inquiétant pour son meilleur ami Michel\, docteur confirmé\, qui n’a jamais vu une situation pareille\, du moins dans son cabinet vétérinaire. Un marabout\, ami de Valérie\, l’épouse naturophile de Jean-Louis\, aurait bien une solution à proposer… mais Jean-Louis sera-t-il prêt à assumer l’inimaginable mission qui lui est confiée pour sauver sa vie ? Une quête scandaleusement drôle et inattendue.  \n> 7\, 8\, 14\, 15\, 21\, 22 Fév 2025 / 20:30\n> 9\, 16\, 23 Fév 2025 / 15:00
URL:https://www.lesachards.com/evenement/comedie-lorigine-du-monde/
LOCATION:Le Chatbaret\, 4 rue du Chanoine Ferré La Chapelle-Achard\, Les Achards
CATEGORIES:Manifestations culturelles (spectacles, concerts, théâtre, expos ...)
ATTACH;FMTTYPE=image/jpeg:https://www.lesachards.com/wp-content/uploads/2025/01/Lorigine-du-monde.jpg
ORGANIZER;CN="Le Chatbaret":MAILTO:lechatbaret@gmail.com
END:VEVENT
BEGIN:VEVENT
DTSTART;TZID=Europe/Paris:20250219T140000
DTEND;TZID=Europe/Paris:20250219T190000
DTSTAMP:20260419T135547
CREATED:20250122T161600Z
LAST-MODIFIED:20250122T161600Z
UID:37602-1739973600-1739991600@www.lesachards.com
SUMMARY:MISSION BAIGNADE SANS NOYADE
DESCRIPTION:« Mission Baignade sans Noyade » est une journée dédiée à la sécurité et au sauvetage en piscine familiale. \nL’objectif est de sensibiliser un public familial sur le thème de la sécurité lors de la pratique de baignades dans les piscines privées\, piscines de tous types et tailles confondus\, en collaboration avec des partenaires institutionnels et privés. \nLes ateliers et animations seront répartis dans l’ensemble des espaces secs et aquatiques du CAPA. Le maillot de bain\, ainsi que le bonnet sont bien sûr indispensables pour cet événement. \nLes principales règles pour la baignade en toute sécurité seront abordées : ce que dit la législation\, la notion de qualité de l’eau et les risques liés\, les bons réflexes pour la gestion de l’eau d’une piscine\, le matériel de sécurité active et passive\, les facteurs de risque en piscine privée\, les conseils à suivre\, pour organiser une baignade\, le rôle des adultes ou encore les astuces pour accompagner son enfant dans la pratique dès le plus jeune âge. \nDes ateliers aquatiques permettront à nos visiteurs de se tester et d’apprendre à réagir : parcours d’aisance aquatique pour petits et grands avec épreuves\, se sauver soi-même en condition réelle (nager habillé)\, tester ses capacités\, pratiquer la sortie de l’eau d’une victime\, déclencher les secours efficacement\, s’entraîner aux gestes de premiers secours spécifiques à la noyade\, utiliser un défibrillateur. \nDurant cette journée\, de nombreux professionnels seront présents pour échanger\, conseiller\, sur les thématiques de la sécurité et le sauvetage en piscine familiale tels que l’équipe de Maîtres-Nageurs Sauveteurs du centre aquatique\, le Service départemental Jeunesse Engagement Sport (SDJES)\, l’Institut Supérieur des Métiers de la Piscine (ISMP)\, la Fédération des Professionnels de la Piscine et du Spa (FPP)\, le Service Départemental Incendie et Secours (SDIS 85)\, Sauvetage et Secourisme du Pays des Olonnes (SSPO-FFSS) et IDEALIS Bretagne\, afin de présenter ses solutions de défibrillateur pour particuliers.
URL:https://www.lesachards.com/evenement/mission-baignade-sans-noyade/
LOCATION:Centre aquatique
CATEGORIES:Autre
ATTACH;FMTTYPE=image/jpeg:https://www.lesachards.com/wp-content/uploads/2025/01/MBSN-2025-VDEF.jpg
ORGANIZER;CN="Communaut%C3%A9 de communes du Pays des Achards":MAILTO:contact@cc-paydesachards.fr
END:VEVENT
BEGIN:VEVENT
DTSTART;TZID=Europe/Paris:20250219T150000
DTEND;TZID=Europe/Paris:20250219T180000
DTSTAMP:20260419T135547
CREATED:20250116T113139Z
LAST-MODIFIED:20250122T154326Z
UID:37305-1739977200-1739988000@www.lesachards.com
SUMMARY:APRES-MIDI JEUX DE SOCIÉTÉ
DESCRIPTION:Vous aimez jouer ?\nProfitez des vacances de février pour vous initier ou découvrir de nouveaux jeux de société\, de plateaux\, de cartes ou collaboratifs.\nLa Médiathèque des Achards vous invite à un après-midi jeux ludique pour tous les âges en libre accès. Pour passer un bon moment en famille ou entre amis !\nEn partenariat avec la Direction des bibliothèques de Vendée\n \nInformations pratiques :\n• Ouvert à tous à partir de 3 ans\n• Gratuit\n• Réservation recommandée  \n 
URL:https://www.lesachards.com/evenement/apres-midi-jeux-de-societe-7/
LOCATION:Médiathèque\, 13 place Michel Vrignon La Mothe-Achard\, Les Achards\, 85150
CATEGORIES:Contes et lectures
ATTACH;FMTTYPE=image/jpeg:https://www.lesachards.com/wp-content/uploads/2025/01/LMA_jeux_de_societe_19022025.jpg
END:VEVENT
END:VCALENDAR