BEGIN:VCALENDAR
VERSION:2.0
PRODID:-//Site de la commune des Achards - ECPv6.10.3//NONSGML v1.0//EN
CALSCALE:GREGORIAN
METHOD:PUBLISH
X-ORIGINAL-URL:https://www.lesachards.com
X-WR-CALDESC:Évènements pour Site de la commune des Achards
REFRESH-INTERVAL;VALUE=DURATION:PT1H
X-Robots-Tag:noindex
X-PUBLISHED-TTL:PT1H
BEGIN:VTIMEZONE
TZID:Europe/Paris
BEGIN:DAYLIGHT
TZOFFSETFROM:+0100
TZOFFSETTO:+0200
TZNAME:CEST
DTSTART:20210328T010000
END:DAYLIGHT
BEGIN:STANDARD
TZOFFSETFROM:+0200
TZOFFSETTO:+0100
TZNAME:CET
DTSTART:20211031T010000
END:STANDARD
END:VTIMEZONE
BEGIN:VEVENT
DTSTART;TZID=Europe/Paris:20211030T090000
DTEND;TZID=Europe/Paris:20211030T120000
DTSTAMP:20260426T044148
CREATED:20211028T171809Z
LAST-MODIFIED:20211028T171809Z
UID:27429-1635584400-1635595200@www.lesachards.com
SUMMARY:ATELIERS DE DECORATION DE FETES DE FIN D'ANNEE
DESCRIPTION:La commission Environnement et cadre de vie organise des ateliers de fabrication des décorations de fêtes de fin d’année les samedis 30 octobre et 6\, 13\, 20 novembre 2021 à l’Espace Culturel. \nHoraires libres entre 9h et 12h.  \nLes ateliers se dérouleront dans le respect des règles sanitaires en vigueur. 
URL:https://www.lesachards.com/evenement/ateliers-de-decoration-de-fetes-de-fin-dannee/
LOCATION:Espace culturel George-Sand\, 13 place Michel Vrignon\, Les Achards\, Vendée\, 85150\, France
CATEGORIES:Ateliers
ATTACH;FMTTYPE=image/jpeg:https://www.lesachards.com/wp-content/uploads/2019/12/sapin-noel.jpg
ORGANIZER;CN="Municipalit%C3%A9":MAILTO:contact@lesachards.fr
END:VEVENT
END:VCALENDAR