BEGIN:VCALENDAR
VERSION:2.0
PRODID:-//Site de la commune des Achards - ECPv6.10.3//NONSGML v1.0//EN
CALSCALE:GREGORIAN
METHOD:PUBLISH
X-ORIGINAL-URL:https://www.lesachards.com
X-WR-CALDESC:Évènements pour Site de la commune des Achards
REFRESH-INTERVAL;VALUE=DURATION:PT1H
X-Robots-Tag:noindex
X-PUBLISHED-TTL:PT1H
BEGIN:VTIMEZONE
TZID:Europe/Paris
BEGIN:DAYLIGHT
TZOFFSETFROM:+0100
TZOFFSETTO:+0200
TZNAME:CEST
DTSTART:20230326T010000
END:DAYLIGHT
BEGIN:STANDARD
TZOFFSETFROM:+0200
TZOFFSETTO:+0100
TZNAME:CET
DTSTART:20231029T010000
END:STANDARD
END:VTIMEZONE
BEGIN:VEVENT
DTSTART;TZID=Europe/Paris:20230612T180000
DTEND;TZID=Europe/Paris:20230612T210000
DTSTAMP:20260424T214307
CREATED:20230531T131337Z
LAST-MODIFIED:20230531T131337Z
UID:32505-1686592800-1686603600@www.lesachards.com
SUMMARY:ATELIER COLLECTIF - ÉNERGIE MIX : L'ÉNERGIE EST NOTRE AVENIR\, DÉBATTONS-EN !
DESCRIPTION:Dans le cadre de la semaine de l’environnement organisé par la Communauté de Communes du Pays des Achards. \nQui mieux que nous – citoyens et collectivités – pour décider d’un chemin pour une transition énergétique réussie ?  \nL’atelier Énergie-Mix repose les bonnes questions et les bons ordres de grandeur\, pour que chacun puisse comprendre les choix à faire aujourd’hui pour 2050\, et leurs conséquences sur les autres secteurs de la société. \nVenez vous documenter et réfléchir collectivement sur nos enjeux énergétiques. Un atelier convivial\, divertissant et égalitaire pour reprendre le pouvoir sur l’énergie. Venez avec votre envie d’en discuter et en savoir plus. \nAvec Énergies Ouvertes (EO)\, notre partenaire technique
URL:https://www.lesachards.com/evenement/atelier-collectif-energie-mix-lenergie-est-notre-avenir-debattons-en/
LOCATION:Espace culturel George-Sand\, 13 place Michel Vrignon\, Les Achards\, Vendée\, 85150\, France
CATEGORIES:Ateliers
ATTACH;FMTTYPE=image/jpeg:https://www.lesachards.com/wp-content/uploads/2023/05/Semaine_de_lenvironnement_web-1-scaled.jpg
ORGANIZER;CN="Office de Tourisme du Pays des Achards":MAILTO:contact@achards-tourisme.com
END:VEVENT
BEGIN:VEVENT
DTSTART;VALUE=DATE:20230624
DTEND;VALUE=DATE:20230625
DTSTAMP:20260424T214307
CREATED:20230209T101500Z
LAST-MODIFIED:20230209T101500Z
UID:31504-1687564800-1687651199@www.lesachards.com
SUMMARY:ATELIERS BRICOLAGE
DESCRIPTION:
URL:https://www.lesachards.com/evenement/ateliers-bricolage/
LOCATION:Bibliothèque\, 22 rue du Général de Gaulle La Chapelle-Achard\, Les Achards\, 85150
CATEGORIES:Ateliers
ATTACH;FMTTYPE=image/png:https://www.lesachards.com/wp-content/uploads/2023/02/LCA_ateliers_brico_25062022_BD.png
ORGANIZER;CN="Biblioth%C3%A8que des Achards (La Chapelle-Achard)":MAILTO:bibliotheques@cc-paysdesachards.fr
END:VEVENT
BEGIN:VEVENT
DTSTART;VALUE=DATE:20230628
DTEND;VALUE=DATE:20230629
DTSTAMP:20260424T214307
CREATED:20230209T103257Z
LAST-MODIFIED:20230209T103257Z
UID:31514-1687910400-1687996799@www.lesachards.com
SUMMARY:ATELIERS BRICOLAGE
DESCRIPTION:Organisé par le réseau des bibliothèques 
URL:https://www.lesachards.com/evenement/ateliers-bricolage-2/
LOCATION:Bibliothèque\, 22 rue du Général de Gaulle La Chapelle-Achard\, Les Achards\, 85150
CATEGORIES:Ateliers
ATTACH;FMTTYPE=image/png:https://www.lesachards.com/wp-content/uploads/2023/02/LCA_ateliers_brico_25062022_BD.png
ORGANIZER;CN="Biblioth%C3%A8que des Achards (La Chapelle-Achard)":MAILTO:bibliotheques@cc-paysdesachards.fr
END:VEVENT
END:VCALENDAR