BEGIN:VCALENDAR
VERSION:2.0
PRODID:-//Site de la commune des Achards - ECPv6.10.3//NONSGML v1.0//EN
CALSCALE:GREGORIAN
METHOD:PUBLISH
X-WR-CALNAME:Site de la commune des Achards
X-ORIGINAL-URL:https://www.lesachards.com
X-WR-CALDESC:Évènements pour Site de la commune des Achards
REFRESH-INTERVAL;VALUE=DURATION:PT1H
X-Robots-Tag:noindex
X-PUBLISHED-TTL:PT1H
BEGIN:VTIMEZONE
TZID:Europe/Paris
BEGIN:DAYLIGHT
TZOFFSETFROM:+0100
TZOFFSETTO:+0200
TZNAME:CEST
DTSTART:20240331T010000
END:DAYLIGHT
BEGIN:STANDARD
TZOFFSETFROM:+0200
TZOFFSETTO:+0100
TZNAME:CET
DTSTART:20241027T010000
END:STANDARD
END:VTIMEZONE
BEGIN:VEVENT
DTSTART;TZID=Europe/Paris:20240601T150000
DTEND;TZID=Europe/Paris:20240601T183000
DTSTAMP:20260420T010025
CREATED:20240521T081431Z
LAST-MODIFIED:20240521T081431Z
UID:35392-1717254000-1717266600@www.lesachards.com
SUMMARY:ATELIER QI-GONG
DESCRIPTION:Atelier ouvert à tous
URL:https://www.lesachards.com/evenement/atelier-qi-gong-7/
LOCATION:Salle Millepied\, Rue jean Bouin La Mothe-Achard\, Les Achards\, 85150
CATEGORIES:Ateliers
ATTACH;FMTTYPE=image/jpeg:https://www.lesachards.com/wp-content/uploads/2024/05/atelier-1er-juin-2024-qi-gong.jpg
ORGANIZER;CN="Les Mille Fils De Soi":MAILTO:annick.herault2@gmail.com
END:VEVENT
END:VCALENDAR