BEGIN:VCALENDAR
VERSION:2.0
PRODID:-//Site de la commune des Achards - ECPv6.10.3//NONSGML v1.0//EN
CALSCALE:GREGORIAN
METHOD:PUBLISH
X-WR-CALNAME:Site de la commune des Achards
X-ORIGINAL-URL:https://www.lesachards.com
X-WR-CALDESC:Évènements pour Site de la commune des Achards
REFRESH-INTERVAL;VALUE=DURATION:PT1H
X-Robots-Tag:noindex
X-PUBLISHED-TTL:PT1H
BEGIN:VTIMEZONE
TZID:Europe/Paris
BEGIN:DAYLIGHT
TZOFFSETFROM:+0100
TZOFFSETTO:+0200
TZNAME:CEST
DTSTART:20240331T010000
END:DAYLIGHT
BEGIN:STANDARD
TZOFFSETFROM:+0200
TZOFFSETTO:+0100
TZNAME:CET
DTSTART:20241027T010000
END:STANDARD
END:VTIMEZONE
BEGIN:VEVENT
DTSTART;TZID=Europe/Paris:20241130T140000
DTEND;TZID=Europe/Paris:20241130T173000
DTSTAMP:20260419T161927
CREATED:20241114T112316Z
LAST-MODIFIED:20241114T112316Z
UID:36807-1732975200-1732987800@www.lesachards.com
SUMMARY:ATELIERS QI-GONG
DESCRIPTION:
URL:https://www.lesachards.com/evenement/ateliers-qi-gong-2/
LOCATION:Complexe sportif Thierry-Omeyer\, rue Marie-Curie La Chapelle-Achard\, LES ACHARDS\, 85150
CATEGORIES:Ateliers
ATTACH;FMTTYPE=image/jpeg:https://www.lesachards.com/wp-content/uploads/2024/11/Atelier-QI-GONG-ateliers-nov-et-dec-2024_Page_1-scaled.jpg
ORGANIZER;CN="Les Mille Fils De Soi":MAILTO:annick.herault2@gmail.com
END:VEVENT
END:VCALENDAR