BEGIN:VCALENDAR
VERSION:2.0
PRODID:-//Site de la commune des Achards - ECPv6.10.3//NONSGML v1.0//EN
CALSCALE:GREGORIAN
METHOD:PUBLISH
X-ORIGINAL-URL:https://www.lesachards.com
X-WR-CALDESC:Évènements pour Site de la commune des Achards
REFRESH-INTERVAL;VALUE=DURATION:PT1H
X-Robots-Tag:noindex
X-PUBLISHED-TTL:PT1H
BEGIN:VTIMEZONE
TZID:Europe/Paris
BEGIN:DAYLIGHT
TZOFFSETFROM:+0100
TZOFFSETTO:+0200
TZNAME:CEST
DTSTART:20240331T010000
END:DAYLIGHT
BEGIN:STANDARD
TZOFFSETFROM:+0200
TZOFFSETTO:+0100
TZNAME:CET
DTSTART:20241027T010000
END:STANDARD
END:VTIMEZONE
BEGIN:VEVENT
DTSTART;TZID=Europe/Paris:20241207T150000
DTEND;TZID=Europe/Paris:20241207T183000
DTSTAMP:20260419T144303
CREATED:20241114T112410Z
LAST-MODIFIED:20241114T112410Z
UID:36812-1733583600-1733596200@www.lesachards.com
SUMMARY:ATELIERS QI-GONG
DESCRIPTION:
URL:https://www.lesachards.com/evenement/ateliers-qi-gong-3/
LOCATION:Salle Millepied\, Rue jean Bouin La Mothe-Achard\, Les Achards\, 85150
CATEGORIES:Ateliers
ATTACH;FMTTYPE=image/jpeg:https://www.lesachards.com/wp-content/uploads/2024/11/Atelier-QI-GONG-ateliers-nov-et-dec-2024_Page_1-scaled.jpg
ORGANIZER;CN="Les Mille Fils De Soi":MAILTO:annick.herault2@gmail.com
END:VEVENT
END:VCALENDAR