BEGIN:VCALENDAR
VERSION:2.0
PRODID:-//Site de la commune des Achards - ECPv6.10.3//NONSGML v1.0//EN
CALSCALE:GREGORIAN
METHOD:PUBLISH
X-WR-CALNAME:Site de la commune des Achards
X-ORIGINAL-URL:https://www.lesachards.com
X-WR-CALDESC:Évènements pour Site de la commune des Achards
REFRESH-INTERVAL;VALUE=DURATION:PT1H
X-Robots-Tag:noindex
X-PUBLISHED-TTL:PT1H
BEGIN:VTIMEZONE
TZID:Europe/Paris
BEGIN:DAYLIGHT
TZOFFSETFROM:+0100
TZOFFSETTO:+0200
TZNAME:CEST
DTSTART:20220327T010000
END:DAYLIGHT
BEGIN:STANDARD
TZOFFSETFROM:+0200
TZOFFSETTO:+0100
TZNAME:CET
DTSTART:20221030T010000
END:STANDARD
END:VTIMEZONE
BEGIN:VEVENT
DTSTART;TZID=Europe/Paris:20220625T103000
DTEND;TZID=Europe/Paris:20220625T163000
DTSTAMP:20260425T173337
CREATED:20220622T133424Z
LAST-MODIFIED:20220622T133424Z
UID:29504-1656153000-1656174600@www.lesachards.com
SUMMARY:BRICOLAGES GOURMANDS
DESCRIPTION:Les enfants peuvent fabriquer une carte gourmande à coudre\, une couronne de bonbons et des stickers gourmands pour la balade contée à la bibliothèque des Achards (La Chapelle-Achard) \nA partir de 6 ans / Réservation obligatoire au 02 28 15 03 93 – 06 75 43 55 99
URL:https://www.lesachards.com/evenement/bricolages-gourmands/
LOCATION:Bibliothèque\, 22 rue du Général de Gaulle La Chapelle-Achard\, Les Achards\, 85150
CATEGORIES:Ateliers
ATTACH;FMTTYPE=image/png:https://www.lesachards.com/wp-content/uploads/2022/06/LCA_ateliers_brico_25062022_BD.png
END:VEVENT
END:VCALENDAR