BEGIN:VCALENDAR
VERSION:2.0
PRODID:-//Site de la commune des Achards - ECPv6.10.3//NONSGML v1.0//EN
CALSCALE:GREGORIAN
METHOD:PUBLISH
X-WR-CALNAME:Site de la commune des Achards
X-ORIGINAL-URL:https://www.lesachards.com
X-WR-CALDESC:Évènements pour Site de la commune des Achards
REFRESH-INTERVAL;VALUE=DURATION:PT1H
X-Robots-Tag:noindex
X-PUBLISHED-TTL:PT1H
BEGIN:VTIMEZONE
TZID:Europe/Paris
BEGIN:DAYLIGHT
TZOFFSETFROM:+0100
TZOFFSETTO:+0200
TZNAME:CEST
DTSTART:20220327T010000
END:DAYLIGHT
BEGIN:STANDARD
TZOFFSETFROM:+0200
TZOFFSETTO:+0100
TZNAME:CET
DTSTART:20221030T010000
END:STANDARD
END:VTIMEZONE
BEGIN:VEVENT
DTSTART;TZID=Europe/Paris:20220924T093000
DTEND;TZID=Europe/Paris:20220924T123000
DTSTAMP:20260425T130102
CREATED:20220921T090901Z
LAST-MODIFIED:20220921T090901Z
UID:30141-1664011800-1664022600@www.lesachards.com
SUMMARY:ATELIER LA FRESQUE DU CLIMAT
DESCRIPTION:L’association « Ca fresque en Vendée » organise un atelier aux Achards « La fresque du climat »\, le samedi 24 septembre à 9h30 à l’espace culturel George-Sand. \nL’atelier a pour but de sensibiliser un maximum de participants sur le sujet du climat. Vous découvrirez les causes et conséquences du dérèglement climatique\, et aborderez les solutions les plus efficaces à l’échelle individuelle ou collective. \nSi vous êtes intéressé(e)\, vous pouvez vous inscrire :  https://www.billetweb.fr/atelier-la-fresque-du-climat-les-achards-85?fbclid=IwAR3sbXVowSBFC8HV-5RDUF2b0DCP0xTweL1lw2no8-EWU9B2UCJFwHWb89c
URL:https://www.lesachards.com/evenement/atelier-la-fresque-du-climat/
LOCATION:Espace culturel George-Sand\, 13 place Michel Vrignon\, Les Achards\, Vendée\, 85150\, France
CATEGORIES:Ateliers
ATTACH;FMTTYPE=image/jpeg:https://www.lesachards.com/wp-content/uploads/2022/09/301669429_178213268103824_365326180841185518_n.jpg
END:VEVENT
END:VCALENDAR