BEGIN:VCALENDAR
VERSION:2.0
PRODID:-//Site de la commune des Achards - ECPv6.10.3//NONSGML v1.0//EN
CALSCALE:GREGORIAN
METHOD:PUBLISH
X-ORIGINAL-URL:https://www.lesachards.com
X-WR-CALDESC:Évènements pour Site de la commune des Achards
REFRESH-INTERVAL;VALUE=DURATION:PT1H
X-Robots-Tag:noindex
X-PUBLISHED-TTL:PT1H
BEGIN:VTIMEZONE
TZID:Europe/Paris
BEGIN:DAYLIGHT
TZOFFSETFROM:+0100
TZOFFSETTO:+0200
TZNAME:CEST
DTSTART:20230326T010000
END:DAYLIGHT
BEGIN:STANDARD
TZOFFSETFROM:+0200
TZOFFSETTO:+0100
TZNAME:CET
DTSTART:20231029T010000
END:STANDARD
END:VTIMEZONE
BEGIN:VEVENT
DTSTART;TZID=Europe/Paris:20230311T150000
DTEND;TZID=Europe/Paris:20230311T163000
DTSTAMP:20260425T035159
CREATED:20230301T092619Z
LAST-MODIFIED:20230306T084941Z
UID:31726-1678546800-1678552200@www.lesachards.com
SUMMARY:EXPO "ANIMAL" : ATELIER ENCRES POUR ENFANTS
DESCRIPTION:Dans le cadre de l’exposition « Animal »\, nous vous proposons un atelier « encres » pour les enfants. \nPortrait d’animaux à l’encre\, l’atelier sera animé par Stéphanie Chiron. \nEnfants de 7 à 10 ans – Gratuit\nInscription obligatoire au 06 45 21 83 24 ou communication@leschards.fr
URL:https://www.lesachards.com/evenement/expo-animal-atelier-encres/
LOCATION:La Grange des Mares\, La Grange des Mares\, Les Achards\, France
CATEGORIES:Ateliers
ATTACH;FMTTYPE=image/jpeg:https://www.lesachards.com/wp-content/uploads/2023/03/2-scaled.jpg
END:VEVENT
END:VCALENDAR