BEGIN:VCALENDAR
VERSION:2.0
PRODID:-//Site de la commune des Achards - ECPv6.10.3//NONSGML v1.0//EN
CALSCALE:GREGORIAN
METHOD:PUBLISH
X-ORIGINAL-URL:https://www.lesachards.com
X-WR-CALDESC:Évènements pour Site de la commune des Achards
REFRESH-INTERVAL;VALUE=DURATION:PT1H
X-Robots-Tag:noindex
X-PUBLISHED-TTL:PT1H
BEGIN:VTIMEZONE
TZID:Europe/Paris
BEGIN:DAYLIGHT
TZOFFSETFROM:+0100
TZOFFSETTO:+0200
TZNAME:CEST
DTSTART:20230326T010000
END:DAYLIGHT
BEGIN:STANDARD
TZOFFSETFROM:+0200
TZOFFSETTO:+0100
TZNAME:CET
DTSTART:20231029T010000
END:STANDARD
END:VTIMEZONE
BEGIN:VEVENT
DTSTART;TZID=Europe/Paris:20231026T140000
DTEND;TZID=Europe/Paris:20231026T170000
DTSTAMP:20260424T170627
CREATED:20231011T101045Z
LAST-MODIFIED:20231011T101045Z
UID:33666-1698328800-1698339600@www.lesachards.com
SUMMARY:EQUILIBRE ET PLAISIR "LE JEU DE LA NUTRITION"
DESCRIPTION:L’atelier jeux sera animé par dyna’meet game ainsi qu’une diététicienne sous forme de quizz type jeux télévisé « questions pour un champion » \nRéservé aux personnes de plus de 60 ans – Réponse souhaitée avant le 18 octobre 2023\, par retour du mail ssiad.lesachards@admr85.org ou directement au SSIAD des Achards ADMR 02 51 94 79 19 \n 
URL:https://www.lesachards.com/evenement/equilibre-et-plaisir-le-jeu-de-la-nutrition/
LOCATION:Espace culturel George-Sand\, 13 place Michel Vrignon\, Les Achards\, Vendée\, 85150\, France
CATEGORIES:Ateliers
ATTACH;FMTTYPE=image/jpeg:https://www.lesachards.com/wp-content/uploads/2023/10/action-prevention-scaled.jpg
END:VEVENT
END:VCALENDAR