BEGIN:VCALENDAR
VERSION:2.0
PRODID:-//Site de la commune des Achards - ECPv6.10.3//NONSGML v1.0//EN
CALSCALE:GREGORIAN
METHOD:PUBLISH
X-ORIGINAL-URL:https://www.lesachards.com
X-WR-CALDESC:Évènements pour Site de la commune des Achards
REFRESH-INTERVAL;VALUE=DURATION:PT1H
X-Robots-Tag:noindex
X-PUBLISHED-TTL:PT1H
BEGIN:VTIMEZONE
TZID:Europe/Paris
BEGIN:DAYLIGHT
TZOFFSETFROM:+0100
TZOFFSETTO:+0200
TZNAME:CEST
DTSTART:20220327T010000
END:DAYLIGHT
BEGIN:STANDARD
TZOFFSETFROM:+0200
TZOFFSETTO:+0100
TZNAME:CET
DTSTART:20221030T010000
END:STANDARD
END:VTIMEZONE
BEGIN:VEVENT
DTSTART;TZID=Europe/Paris:20220401T193000
DTEND;TZID=Europe/Paris:20220401T213000
DTSTAMP:20260425T015038
CREATED:20220126T104129Z
LAST-MODIFIED:20220126T104129Z
UID:28496-1648841400-1648848600@www.lesachards.com
SUMMARY:APÉRO LECTURE
DESCRIPTION:Envie de partager vos coups de cœur ? De découvrir de nouveaux auteurs ?\nLes bibliothécaires de La Chapelle-Achard vous proposent un moment d’échanges\, en toute simplicité et convivialité pour parler de livres… mais pas que !
URL:https://www.lesachards.com/evenement/apero-lecture-8/
LOCATION:Bibliothèque\, 22 rue du Général de Gaulle La Chapelle-Achard\, Les Achards\, 85150
CATEGORIES:Contes et lectures
ATTACH;FMTTYPE=image/jpeg:https://www.lesachards.com/wp-content/uploads/2022/01/249385508_337192611499142_1495368744975950565_n.jpg
ORGANIZER;CN="Biblioth%C3%A8que des Achards (La Chapelle-Achard)":MAILTO:bibliotheques@cc-paysdesachards.fr
END:VEVENT
BEGIN:VEVENT
DTSTART;TZID=Europe/Paris:20220428T143000
DTEND;TZID=Europe/Paris:20220428T170000
DTSTAMP:20260425T015038
CREATED:20220420T130702Z
LAST-MODIFIED:20220420T130702Z
UID:29048-1651156200-1651165200@www.lesachards.com
SUMMARY:SPECTACLE AÎNÉS "CONTES ET LEGENDES DE VENDÉE"
DESCRIPTION:Sur inscription au 02 51 38 60 49 ou par mail à contact@lesachards.fr
URL:https://www.lesachards.com/evenement/spectacle-aines-contes-et-legendes-de-vendee/
LOCATION:Espace culturel George-Sand\, 13 place Michel Vrignon\, Les Achards\, Vendée\, 85150\, France
CATEGORIES:Contes et lectures
ATTACH;FMTTYPE=image/jpeg:https://www.lesachards.com/wp-content/uploads/2022/04/quatuor-2020.jpg
END:VEVENT
END:VCALENDAR