BEGIN:VCALENDAR
VERSION:2.0
PRODID:-//Site de la commune des Achards - ECPv6.10.3//NONSGML v1.0//EN
CALSCALE:GREGORIAN
METHOD:PUBLISH
X-ORIGINAL-URL:https://www.lesachards.com
X-WR-CALDESC:Évènements pour Site de la commune des Achards
REFRESH-INTERVAL;VALUE=DURATION:PT1H
X-Robots-Tag:noindex
X-PUBLISHED-TTL:PT1H
BEGIN:VTIMEZONE
TZID:Europe/Paris
BEGIN:DAYLIGHT
TZOFFSETFROM:+0100
TZOFFSETTO:+0200
TZNAME:CEST
DTSTART:20220327T010000
END:DAYLIGHT
BEGIN:STANDARD
TZOFFSETFROM:+0200
TZOFFSETTO:+0100
TZNAME:CET
DTSTART:20221030T010000
END:STANDARD
END:VTIMEZONE
BEGIN:VEVENT
DTSTART;TZID=Europe/Paris:20220701T200000
DTEND;TZID=Europe/Paris:20220701T213000
DTSTAMP:20260424T211321
CREATED:20210113T105446Z
LAST-MODIFIED:20220629T080829Z
UID:25645-1656705600-1656711000@www.lesachards.com
SUMMARY:BALADE CONTÉE
DESCRIPTION:Venez déguisés ou parés d’accessoires sur le thème de la gourmandise ! \nDépart à 20h et en musique depuis la bibliothèque de la Chapelle-Achard
URL:https://www.lesachards.com/evenement/balade-contee-3/
LOCATION:Bibliothèque\, 22 rue du Général de Gaulle La Chapelle-Achard\, Les Achards\, 85150
CATEGORIES:Contes et lectures
ATTACH;FMTTYPE=image/png:https://www.lesachards.com/wp-content/uploads/2021/01/LCA_balade_contee_01072022.png
ORGANIZER;CN="Biblioth%C3%A8que des Achards (La Chapelle-Achard)":MAILTO:bibliotheques@cc-paysdesachards.fr
END:VEVENT
BEGIN:VEVENT
DTSTART;TZID=Europe/Paris:20220706T110000
DTEND;TZID=Europe/Paris:20220706T153000
DTSTAMP:20260424T211321
CREATED:20220620T145901Z
LAST-MODIFIED:20220620T145901Z
UID:29481-1657105200-1657121400@www.lesachards.com
SUMMARY:SPECTACLE - PARTIR EN LIVRE AVEC NATALIE TUAL
DESCRIPTION:Venez écouter Natalie Tual pour une lecture-chantée de son livre « Bulle et Bob au jardin » \nA partir de 3 ans\nSéance de dédicaces à 16h15\nRéservation obligatoire : 02 28 15 03 93 – 06 75 43 55 99
URL:https://www.lesachards.com/evenement/spectacle-partir-en-livre-avec-natalie-tual/
LOCATION:Plan d’eau du Bibrou\, La Mothe-Achard\, Les Achards\, 85150
CATEGORIES:Contes et lectures
ATTACH;FMTTYPE=image/png:https://www.lesachards.com/wp-content/uploads/2022/06/LMA_natalie_tual_06072022.png
END:VEVENT
END:VCALENDAR