BEGIN:VCALENDAR
VERSION:2.0
PRODID:-//Site de la commune des Achards - ECPv6.10.3//NONSGML v1.0//EN
CALSCALE:GREGORIAN
METHOD:PUBLISH
X-ORIGINAL-URL:https://www.lesachards.com
X-WR-CALDESC:Évènements pour Site de la commune des Achards
REFRESH-INTERVAL;VALUE=DURATION:PT1H
X-Robots-Tag:noindex
X-PUBLISHED-TTL:PT1H
BEGIN:VTIMEZONE
TZID:Europe/Paris
BEGIN:DAYLIGHT
TZOFFSETFROM:+0100
TZOFFSETTO:+0200
TZNAME:CEST
DTSTART:20220327T010000
END:DAYLIGHT
BEGIN:STANDARD
TZOFFSETFROM:+0200
TZOFFSETTO:+0100
TZNAME:CET
DTSTART:20221030T010000
END:STANDARD
END:VTIMEZONE
BEGIN:VEVENT
DTSTART;TZID=Europe/Paris:20221004T103000
DTEND;TZID=Europe/Paris:20221004T111500
DTSTAMP:20260424T162537
CREATED:20221003T145005Z
LAST-MODIFIED:20221003T145005Z
UID:30372-1664879400-1664882100@www.lesachards.com
SUMMARY:BEBES LECTEURS
DESCRIPTION:Les livres\, c’est bon pour les bébés ! \nPour les 0-3 ans
URL:https://www.lesachards.com/evenement/bebes-lecteurs-3/
LOCATION:Bibliothèque\, 22 rue du Général de Gaulle La Chapelle-Achard\, Les Achards\, 85150
CATEGORIES:Contes et lectures
ATTACH;FMTTYPE=image/jpeg:https://www.lesachards.com/wp-content/uploads/2022/10/RBA_bebes_lecteurs_102022-scaled.jpg
ORGANIZER;CN="Biblioth%C3%A8que des Achards (La Chapelle-Achard)":MAILTO:bibliotheques@cc-paysdesachards.fr
END:VEVENT
BEGIN:VEVENT
DTSTART;TZID=Europe/Paris:20221013T104500
DTEND;TZID=Europe/Paris:20221013T111500
DTSTAMP:20260424T162537
CREATED:20221010T083044Z
LAST-MODIFIED:20221010T083044Z
UID:30461-1665657900-1665659700@www.lesachards.com
SUMMARY:BÉBÉS LECTEURS
DESCRIPTION:Les livres\, c’est bon pour les bébés !
URL:https://www.lesachards.com/evenement/bebes-lecteurs-4/
LOCATION:Médiathèque\, 13 place Michel Vrignon La Mothe-Achard\, Les Achards\, 85150
CATEGORIES:Contes et lectures
ATTACH;FMTTYPE=image/jpeg:https://www.lesachards.com/wp-content/uploads/2022/10/RBA_bebes_lecteurs_102022-scaled.jpg
END:VEVENT
BEGIN:VEVENT
DTSTART;TZID=Europe/Paris:20221026T143000
DTEND;TZID=Europe/Paris:20221026T170000
DTSTAMP:20260424T162537
CREATED:20220728T131129Z
LAST-MODIFIED:20221003T143521Z
UID:29746-1666794600-1666803600@www.lesachards.com
SUMMARY:BRICO'CONTES
DESCRIPTION:Viens réaliser ton bocal « SOS Cookies »
URL:https://www.lesachards.com/evenement/bricocontes/
LOCATION:Médiathèque\, 13 place Michel Vrignon La Mothe-Achard\, Les Achards\, 85150
CATEGORIES:Contes et lectures
ATTACH;FMTTYPE=image/png:https://www.lesachards.com/wp-content/uploads/2022/07/LMA_brico_contes_26102022.png
END:VEVENT
BEGIN:VEVENT
DTSTART;TZID=Europe/Paris:20221029T110000
DTEND;TZID=Europe/Paris:20221029T120000
DTSTAMP:20260424T162537
CREATED:20220728T131806Z
LAST-MODIFIED:20221003T143843Z
UID:29758-1667041200-1667044800@www.lesachards.com
SUMMARY:L'HEURE DE CONTE
DESCRIPTION:
URL:https://www.lesachards.com/evenement/une-heure-de-conte-5/
LOCATION:Médiathèque\, 13 place Michel Vrignon La Mothe-Achard\, Les Achards\, 85150
CATEGORIES:Contes et lectures
ATTACH;FMTTYPE=image/png:https://www.lesachards.com/wp-content/uploads/2022/07/LMA_heure_du_conte_29102022.png
END:VEVENT
END:VCALENDAR