BEGIN:VCALENDAR
VERSION:2.0
PRODID:-//Site de la commune des Achards - ECPv6.10.3//NONSGML v1.0//EN
CALSCALE:GREGORIAN
METHOD:PUBLISH
X-WR-CALNAME:Site de la commune des Achards
X-ORIGINAL-URL:https://www.lesachards.com
X-WR-CALDESC:Évènements pour Site de la commune des Achards
REFRESH-INTERVAL;VALUE=DURATION:PT1H
X-Robots-Tag:noindex
X-PUBLISHED-TTL:PT1H
BEGIN:VTIMEZONE
TZID:Europe/Paris
BEGIN:DAYLIGHT
TZOFFSETFROM:+0100
TZOFFSETTO:+0200
TZNAME:CEST
DTSTART:20230326T010000
END:DAYLIGHT
BEGIN:STANDARD
TZOFFSETFROM:+0200
TZOFFSETTO:+0100
TZNAME:CET
DTSTART:20231029T010000
END:STANDARD
END:VTIMEZONE
BEGIN:VEVENT
DTSTART;TZID=Europe/Paris:20230413T104500
DTEND;TZID=Europe/Paris:20230413T111500
DTSTAMP:20260420T062424
CREATED:20230202T154433Z
LAST-MODIFIED:20230329T133630Z
UID:31363-1681382700-1681384500@www.lesachards.com
SUMMARY:BÉBÉS LECTEURS
DESCRIPTION:
URL:https://www.lesachards.com/evenement/bebes-lecteurs-9/
LOCATION:Médiathèque\, 13 place Michel Vrignon La Mothe-Achard\, Les Achards\, 85150
CATEGORIES:Contes et lectures
ATTACH;FMTTYPE=image/jpeg:https://www.lesachards.com/wp-content/uploads/2023/02/bebes-lecteurs-ccpa-85-fma.jpg
END:VEVENT
BEGIN:VEVENT
DTSTART;TZID=Europe/Paris:20230414T193000
DTEND;TZID=Europe/Paris:20230414T213000
DTSTAMP:20260420T062424
CREATED:20230206T152724Z
LAST-MODIFIED:20230329T125524Z
UID:31386-1681500600-1681507800@www.lesachards.com
SUMMARY:APÉRO LIVRES
DESCRIPTION:Venez partager vos coups de coeur !
URL:https://www.lesachards.com/evenement/apero-lectures-2/
LOCATION:Bibliothèque\, 22 rue du Général de Gaulle La Chapelle-Achard\, Les Achards\, 85150
CATEGORIES:Contes et lectures
ATTACH;FMTTYPE=image/jpeg:https://www.lesachards.com/wp-content/uploads/2023/02/apero-livres-la-chapelle-achard-85-fma.jpg
ORGANIZER;CN="Biblioth%C3%A8que des Achards (La Chapelle-Achard)":MAILTO:bibliotheques@cc-paysdesachards.fr
END:VEVENT
BEGIN:VEVENT
DTSTART;TZID=Europe/Paris:20230429T110000
DTEND;TZID=Europe/Paris:20230429T120000
DTSTAMP:20260420T062424
CREATED:20230206T153054Z
LAST-MODIFIED:20230329T140733Z
UID:31391-1682766000-1682769600@www.lesachards.com
SUMMARY:L'HEURE DU CONTE
DESCRIPTION:Gratuit sur réservation
URL:https://www.lesachards.com/evenement/lheure-du-conte-12/
LOCATION:Médiathèque\, 13 place Michel Vrignon La Mothe-Achard\, Les Achards\, 85150
CATEGORIES:Contes et lectures
ATTACH;FMTTYPE=image/jpeg:https://www.lesachards.com/wp-content/uploads/2023/02/heure-du-conte-la-mothe-achard-85-fma.jpg
END:VEVENT
END:VCALENDAR