BEGIN:VCALENDAR
VERSION:2.0
PRODID:-//Site de la commune des Achards - ECPv6.10.3//NONSGML v1.0//EN
CALSCALE:GREGORIAN
METHOD:PUBLISH
X-WR-CALNAME:Site de la commune des Achards
X-ORIGINAL-URL:https://www.lesachards.com
X-WR-CALDESC:Évènements pour Site de la commune des Achards
REFRESH-INTERVAL;VALUE=DURATION:PT1H
X-Robots-Tag:noindex
X-PUBLISHED-TTL:PT1H
BEGIN:VTIMEZONE
TZID:Europe/Paris
BEGIN:DAYLIGHT
TZOFFSETFROM:+0100
TZOFFSETTO:+0200
TZNAME:CEST
DTSTART:20230326T010000
END:DAYLIGHT
BEGIN:STANDARD
TZOFFSETFROM:+0200
TZOFFSETTO:+0100
TZNAME:CET
DTSTART:20231029T010000
END:STANDARD
END:VTIMEZONE
BEGIN:VEVENT
DTSTART;TZID=Europe/Paris:20230511T104500
DTEND;TZID=Europe/Paris:20230511T111500
DTSTAMP:20260420T044528
CREATED:20230208T144555Z
LAST-MODIFIED:20230208T144555Z
UID:31421-1683801900-1683803700@www.lesachards.com
SUMMARY:BÉBÉS LECTEURS
DESCRIPTION:Les livres\, c’est bon pour les bébés !\nPour les 0-3 ans
URL:https://www.lesachards.com/evenement/bebes-lecteurs-10/
LOCATION:Médiathèque\, 13 place Michel Vrignon La Mothe-Achard\, Les Achards\, 85150
CATEGORIES:Contes et lectures
ATTACH;FMTTYPE=image/png:https://www.lesachards.com/wp-content/uploads/2023/02/RBA_bebes_lecteurs_022023.png
END:VEVENT
BEGIN:VEVENT
DTSTART;TZID=Europe/Paris:20230527T110000
DTEND;TZID=Europe/Paris:20230527T120000
DTSTAMP:20260420T044528
CREATED:20230208T150858Z
LAST-MODIFIED:20230502T074535Z
UID:31444-1685185200-1685188800@www.lesachards.com
SUMMARY:L'HEURE DU CONTE
DESCRIPTION:
URL:https://www.lesachards.com/evenement/lheure-du-conte-16/
CATEGORIES:Contes et lectures
ATTACH;FMTTYPE=image/jpeg:https://www.lesachards.com/wp-content/uploads/2023/02/LMA_heure_du_conte_27052023-scaled.jpg
END:VEVENT
END:VCALENDAR