BEGIN:VCALENDAR
VERSION:2.0
PRODID:-//Site de la commune des Achards - ECPv6.10.3//NONSGML v1.0//EN
CALSCALE:GREGORIAN
METHOD:PUBLISH
X-WR-CALNAME:Site de la commune des Achards
X-ORIGINAL-URL:https://www.lesachards.com
X-WR-CALDESC:Évènements pour Site de la commune des Achards
REFRESH-INTERVAL;VALUE=DURATION:PT1H
X-Robots-Tag:noindex
X-PUBLISHED-TTL:PT1H
BEGIN:VTIMEZONE
TZID:Europe/Paris
BEGIN:DAYLIGHT
TZOFFSETFROM:+0100
TZOFFSETTO:+0200
TZNAME:CEST
DTSTART:20230326T010000
END:DAYLIGHT
BEGIN:STANDARD
TZOFFSETFROM:+0200
TZOFFSETTO:+0100
TZNAME:CET
DTSTART:20231029T010000
END:STANDARD
END:VTIMEZONE
BEGIN:VEVENT
DTSTART;TZID=Europe/Paris:20230606T103000
DTEND;TZID=Europe/Paris:20230606T110000
DTSTAMP:20260420T024634
CREATED:20230208T153725Z
LAST-MODIFIED:20230208T153725Z
UID:31461-1686047400-1686049200@www.lesachards.com
SUMMARY:BÉBÉS LECTEURS
DESCRIPTION:Les livres\, c’est bon pour les bébés !\nPour les 0-3 ans.
URL:https://www.lesachards.com/evenement/bebes-lecteurs-11/
LOCATION:Bibliothèque\, 22 rue du Général de Gaulle La Chapelle-Achard\, Les Achards\, 85150
CATEGORIES:Contes et lectures
ATTACH;FMTTYPE=image/png:https://www.lesachards.com/wp-content/uploads/2023/02/RBA_bebes_lecteurs_022023.png
ORGANIZER;CN="Biblioth%C3%A8que des Achards (La Chapelle-Achard)":MAILTO:bibliotheques@cc-paysdesachards.fr
END:VEVENT
BEGIN:VEVENT
DTSTART;TZID=Europe/Paris:20230608T104500
DTEND;TZID=Europe/Paris:20230608T113000
DTSTAMP:20260420T024634
CREATED:20230208T154216Z
LAST-MODIFIED:20230208T154216Z
UID:31465-1686221100-1686223800@www.lesachards.com
SUMMARY:BÉBÉS LECTEURS
DESCRIPTION:Les livres\, c’est bon pour les bébés ! \nPour les 0-3 ans.
URL:https://www.lesachards.com/evenement/bebes-lecteurs-12/
LOCATION:Médiathèque\, 13 place Michel Vrignon La Mothe-Achard\, Les Achards\, 85150
CATEGORIES:Contes et lectures
ATTACH;FMTTYPE=image/png:https://www.lesachards.com/wp-content/uploads/2023/02/RBA_bebes_lecteurs_022023.png
END:VEVENT
BEGIN:VEVENT
DTSTART;TZID=Europe/Paris:20230630T200000
DTEND;TZID=Europe/Paris:20230630T220000
DTSTAMP:20260420T024634
CREATED:20230209T103719Z
LAST-MODIFIED:20230628T080547Z
UID:31518-1688155200-1688162400@www.lesachards.com
SUMMARY:BALADE CONTEE
DESCRIPTION:Au gré d’une balade accessible à tous\, venez écouter de douces et belles histoires racontées par les bénévoles de bibliothèque\, sur le thème de la liberté ! Des musiciens accompagneront la déambulation dans le quartier de La Chapelle aux Achards. \nThéâtralisées\, à l’aide de kamishibaïs\, ou encore déclamées et signées\, les lectures vous mèneront jusqu’au final pour un moment de convivialité. \nPetits et grands sont attendus déguisés ou parés d’accessoires sur le thème de la liberté ! \nDurée environ 2 heures\, départ devant la bibliothèque. \nEvènement labellisé « Partir en Livre » \n\nOuvert à tous et accessible aux poussettes\nGratuit – Réservation recommandée au 06 75 43 55 99 – 02 28 15 03 93\nbibliotheques@cc-paysdesachards.fr\nNombre de places limité 
URL:https://www.lesachards.com/evenement/balade-contee-4/
LOCATION:Bibliothèque\, 22 rue du Général de Gaulle La Chapelle-Achard\, Les Achards\, 85150
CATEGORIES:Contes et lectures
ATTACH;FMTTYPE=image/png:https://www.lesachards.com/wp-content/uploads/2023/02/LCA_balade_contee_30062023.png
ORGANIZER;CN="Biblioth%C3%A8que des Achards (La Chapelle-Achard)":MAILTO:bibliotheques@cc-paysdesachards.fr
END:VEVENT
END:VCALENDAR