BEGIN:VCALENDAR
VERSION:2.0
PRODID:-//Site de la commune des Achards - ECPv6.10.3//NONSGML v1.0//EN
CALSCALE:GREGORIAN
METHOD:PUBLISH
X-ORIGINAL-URL:https://www.lesachards.com
X-WR-CALDESC:Évènements pour Site de la commune des Achards
REFRESH-INTERVAL;VALUE=DURATION:PT1H
X-Robots-Tag:noindex
X-PUBLISHED-TTL:PT1H
BEGIN:VTIMEZONE
TZID:Europe/Paris
BEGIN:DAYLIGHT
TZOFFSETFROM:+0100
TZOFFSETTO:+0200
TZNAME:CEST
DTSTART:20230326T010000
END:DAYLIGHT
BEGIN:STANDARD
TZOFFSETFROM:+0200
TZOFFSETTO:+0100
TZNAME:CET
DTSTART:20231029T010000
END:STANDARD
BEGIN:DAYLIGHT
TZOFFSETFROM:+0100
TZOFFSETTO:+0200
TZNAME:CEST
DTSTART:20240331T010000
END:DAYLIGHT
BEGIN:STANDARD
TZOFFSETFROM:+0200
TZOFFSETTO:+0100
TZNAME:CET
DTSTART:20241027T010000
END:STANDARD
END:VTIMEZONE
BEGIN:VEVENT
DTSTART;VALUE=DATE:20231201
DTEND;VALUE=DATE:20240108
DTSTAMP:20260419T151425
CREATED:20231128T105016Z
LAST-MODIFIED:20231128T105016Z
UID:33946-1701388800-1704671999@www.lesachards.com
SUMMARY:SACS SURPRISES A EMPORTER
DESCRIPTION:Petits et grands\, choisissez un sac et laissez-vous surprendre par les livres\, magazines et CD qui y sont glissés !
URL:https://www.lesachards.com/evenement/sacs-surprises-a-emporter/
LOCATION:Médiathèque\, 13 place Michel Vrignon La Mothe-Achard\, Les Achards\, 85150
CATEGORIES:Contes et lectures
ATTACH;FMTTYPE=image/jpeg:https://www.lesachards.com/wp-content/uploads/2023/11/RBA_sacs_surprises_noel_2023-scaled.jpg
END:VEVENT
BEGIN:VEVENT
DTSTART;TZID=Europe/Paris:20240109T080000
DTEND;TZID=Europe/Paris:20240109T170000
DTSTAMP:20260419T151425
CREATED:20240109T132234Z
LAST-MODIFIED:20240109T132234Z
UID:34184-1704787200-1704819600@www.lesachards.com
SUMMARY:L'HEURE DU CONTE
DESCRIPTION:A partir de 3 ans.\nSur réservation
URL:https://www.lesachards.com/evenement/lheure-du-conte-11/
LOCATION:Médiathèque\, 13 place Michel Vrignon La Mothe-Achard\, Les Achards\, 85150
CATEGORIES:Contes et lectures
ATTACH;FMTTYPE=image/jpeg:https://www.lesachards.com/wp-content/uploads/2024/01/LMA_heure_du_conte_27012024-min-scaled.jpg
END:VEVENT
BEGIN:VEVENT
DTSTART;TZID=Europe/Paris:20240120T150000
DTEND;TZID=Europe/Paris:20240120T170000
DTSTAMP:20260419T151425
CREATED:20231227T152451Z
LAST-MODIFIED:20231227T152451Z
UID:34116-1705762800-1705770000@www.lesachards.com
SUMMARY:GALETTE CONTÉE
DESCRIPTION:Dans le cadre des Nuits de la Lecture \nLe temps d’un après-midi\, faites-vous conter des histoires par les bibliothécaires. Sur le thème du CORPS\, les histoires seront mimées\, récitées\, clamées ou chantées et feront rêver les petits comme les grands ! \nL’après-midi se terminera par la traditionnelle galette des rois partagée avec tous. \nViens déguisé !
URL:https://www.lesachards.com/evenement/galette-contee/
LOCATION:Médiathèque\, 13 place Michel Vrignon La Mothe-Achard\, Les Achards\, 85150
CATEGORIES:Contes et lectures
ATTACH;FMTTYPE=image/jpeg:https://www.lesachards.com/wp-content/uploads/2023/12/LMA_galette_contee_20012024-scaled.jpg
END:VEVENT
END:VCALENDAR