BEGIN:VCALENDAR
VERSION:2.0
PRODID:-//Site de la commune des Achards - ECPv6.10.3//NONSGML v1.0//EN
CALSCALE:GREGORIAN
METHOD:PUBLISH
X-WR-CALNAME:Site de la commune des Achards
X-ORIGINAL-URL:https://www.lesachards.com
X-WR-CALDESC:Évènements pour Site de la commune des Achards
REFRESH-INTERVAL;VALUE=DURATION:PT1H
X-Robots-Tag:noindex
X-PUBLISHED-TTL:PT1H
BEGIN:VTIMEZONE
TZID:Europe/Paris
BEGIN:DAYLIGHT
TZOFFSETFROM:+0100
TZOFFSETTO:+0200
TZNAME:CEST
DTSTART:20220327T010000
END:DAYLIGHT
BEGIN:STANDARD
TZOFFSETFROM:+0200
TZOFFSETTO:+0100
TZNAME:CET
DTSTART:20221030T010000
END:STANDARD
END:VTIMEZONE
BEGIN:VEVENT
DTSTART;TZID=Europe/Paris:20220506T180000
DTEND;TZID=Europe/Paris:20220506T190000
DTSTAMP:20260425T020306
CREATED:20220502T100622Z
LAST-MODIFIED:20220502T100622Z
UID:29131-1651860000-1651863600@www.lesachards.com
SUMMARY:RENCONTRE LITTÉRAIRE "JACQUY JOGUET"
DESCRIPTION:Jacquy Joguet a plusieurs cordes à son arc : poète et auteur de nouvelles\, conteur\, animateur\, artiste… Avec son dernier ouvrage « Petites histoires de mon passé »\, il partage ses souvenirs d’adolescent à La Mothe-Achard dans les années 50 : la vie quotidienne de sa famille et de toute une commune rurale de cette époque. \n\nA l’occasion de cette soirée\, l’auteur reviendra sur ce passé\, qu’il ponctuera par la lecture d’extraits de son œuvre. Jeunes et moins jeunes\, vous êtes tous invités à participer à ces échanges\, et à découvrir ces « petites histoires » de La Mothe-Achard des années 50 !\nL’auteur dédicacera ses livres à la fin de la rencontre
URL:https://www.lesachards.com/evenement/rencontre-litteraire-jacquy-joguet/
LOCATION:Médiathèque\, 13 place Michel Vrignon La Mothe-Achard\, Les Achards\, 85150
CATEGORIES:Contes et lectures
ATTACH;FMTTYPE=image/jpeg:https://www.lesachards.com/wp-content/uploads/2022/05/LMA_rencontre_Jacquy_Joguet.jpg
END:VEVENT
END:VCALENDAR