BEGIN:VCALENDAR
VERSION:2.0
PRODID:-//Site de la commune des Achards - ECPv6.10.3//NONSGML v1.0//EN
CALSCALE:GREGORIAN
METHOD:PUBLISH
X-WR-CALNAME:Site de la commune des Achards
X-ORIGINAL-URL:https://www.lesachards.com
X-WR-CALDESC:Évènements pour Site de la commune des Achards
REFRESH-INTERVAL;VALUE=DURATION:PT1H
X-Robots-Tag:noindex
X-PUBLISHED-TTL:PT1H
BEGIN:VTIMEZONE
TZID:Europe/Paris
BEGIN:DAYLIGHT
TZOFFSETFROM:+0100
TZOFFSETTO:+0200
TZNAME:CEST
DTSTART:20220327T010000
END:DAYLIGHT
BEGIN:STANDARD
TZOFFSETFROM:+0200
TZOFFSETTO:+0100
TZNAME:CET
DTSTART:20221030T010000
END:STANDARD
END:VTIMEZONE
BEGIN:VEVENT
DTSTART;TZID=Europe/Paris:20221126T110000
DTEND;TZID=Europe/Paris:20221126T120000
DTSTAMP:20260424T164553
CREATED:20221108T085413Z
LAST-MODIFIED:20221108T085413Z
UID:30649-1669460400-1669464000@www.lesachards.com
SUMMARY:L'HEURE DU CONTE
DESCRIPTION:Les bénévoles de la Médiathèque des Achards (La Mothe Achard) te proposent une heure du conte pleine de gourmandises ! Viens écouter des histoires où l’on parlera des belles choses à voir\, à déguster\, à dévorer\, finement ou goulument ! Pendant une demi-heure\, petits et grands seront sous le charme !\nÀ partir de 3 ans\nOuvert à tous et gratuit\nRéservation conseillée au 02 28 15 03 93 ou par mail à bibliotheques@cc-paysdesachards.fr
URL:https://www.lesachards.com/evenement/lheure-du-conte-9/
LOCATION:Médiathèque\, 13 place Michel Vrignon La Mothe-Achard\, Les Achards\, 85150
CATEGORIES:Contes et lectures
ATTACH;FMTTYPE=image/jpeg:https://www.lesachards.com/wp-content/uploads/2022/11/LMA_heure_du_conte_26112022-scaled.jpg
END:VEVENT
END:VCALENDAR