BEGIN:VCALENDAR
VERSION:2.0
PRODID:-//Site de la commune des Achards - ECPv6.10.3//NONSGML v1.0//EN
CALSCALE:GREGORIAN
METHOD:PUBLISH
X-WR-CALNAME:Site de la commune des Achards
X-ORIGINAL-URL:https://www.lesachards.com
X-WR-CALDESC:Évènements pour Site de la commune des Achards
REFRESH-INTERVAL;VALUE=DURATION:PT1H
X-Robots-Tag:noindex
X-PUBLISHED-TTL:PT1H
BEGIN:VTIMEZONE
TZID:Europe/Paris
BEGIN:DAYLIGHT
TZOFFSETFROM:+0100
TZOFFSETTO:+0200
TZNAME:CEST
DTSTART:20230326T010000
END:DAYLIGHT
BEGIN:STANDARD
TZOFFSETFROM:+0200
TZOFFSETTO:+0100
TZNAME:CET
DTSTART:20231029T010000
END:STANDARD
END:VTIMEZONE
BEGIN:VEVENT
DTSTART;TZID=Europe/Paris:20230128T110000
DTEND;TZID=Europe/Paris:20230128T113000
DTSTAMP:20260424T131922
CREATED:20230103T093910Z
LAST-MODIFIED:20230105T113220Z
UID:31031-1674903600-1674905400@www.lesachards.com
SUMMARY:IL ETAIT UNE FOIS... L'HEURE DU CONTE
DESCRIPTION:C’est l’hiver !\nLa neige est tombée sur le pays\, et les animaux recherchent des moyens pour se réchauffer. Tous les moyens sont bons\, mais le principal\, c’est de s’entraider !\nDes histoires qui se développent hors des livres ! \nInformations pratiques :\n• À partir de 3 ans\n• Gratuit\n• Réservation recommandée
URL:https://www.lesachards.com/evenement/il-etait-une-fois-lheure-du-conte-12/
LOCATION:Médiathèque\, 13 place Michel Vrignon La Mothe-Achard\, Les Achards\, 85150
CATEGORIES:Contes et lectures
ATTACH;FMTTYPE=image/png:https://www.lesachards.com/wp-content/uploads/2023/01/LMA_heure_du_conte_28012023.png
END:VEVENT
END:VCALENDAR