BEGIN:VCALENDAR
VERSION:2.0
PRODID:-//Site de la commune des Achards - ECPv6.10.3//NONSGML v1.0//EN
CALSCALE:GREGORIAN
METHOD:PUBLISH
X-ORIGINAL-URL:https://www.lesachards.com
X-WR-CALDESC:Évènements pour Site de la commune des Achards
REFRESH-INTERVAL;VALUE=DURATION:PT1H
X-Robots-Tag:noindex
X-PUBLISHED-TTL:PT1H
BEGIN:VTIMEZONE
TZID:Europe/Paris
BEGIN:DAYLIGHT
TZOFFSETFROM:+0100
TZOFFSETTO:+0200
TZNAME:CEST
DTSTART:20230326T010000
END:DAYLIGHT
BEGIN:STANDARD
TZOFFSETFROM:+0200
TZOFFSETTO:+0100
TZNAME:CET
DTSTART:20231029T010000
END:STANDARD
END:VTIMEZONE
BEGIN:VEVENT
DTSTART;TZID=Europe/Paris:20231117T193000
DTEND;TZID=Europe/Paris:20231117T203000
DTSTAMP:20260419T202118
CREATED:20230704T080157Z
LAST-MODIFIED:20231114T095859Z
UID:32918-1700249400-1700253000@www.lesachards.com
SUMMARY:APÉRO LIVRES
DESCRIPTION:
URL:https://www.lesachards.com/evenement/apero-livres/
LOCATION:Bibliothèque\, 22 rue du Général de Gaulle La Chapelle-Achard\, Les Achards\, 85150
CATEGORIES:Contes et lectures
ATTACH;FMTTYPE=image/jpeg:https://www.lesachards.com/wp-content/uploads/2023/07/LCA_apero_livres_17112023.jpg
ORGANIZER;CN="Biblioth%C3%A8que des Achards (La Chapelle-Achard)":MAILTO:bibliotheques@cc-paysdesachards.fr
END:VEVENT
END:VCALENDAR