BEGIN:VCALENDAR
VERSION:2.0
PRODID:-//Site de la commune des Achards - ECPv6.10.3//NONSGML v1.0//EN
CALSCALE:GREGORIAN
METHOD:PUBLISH
X-ORIGINAL-URL:https://www.lesachards.com
X-WR-CALDESC:Évènements pour Site de la commune des Achards
REFRESH-INTERVAL;VALUE=DURATION:PT1H
X-Robots-Tag:noindex
X-PUBLISHED-TTL:PT1H
BEGIN:VTIMEZONE
TZID:Europe/Paris
BEGIN:DAYLIGHT
TZOFFSETFROM:+0100
TZOFFSETTO:+0200
TZNAME:CEST
DTSTART:20200329T010000
END:DAYLIGHT
BEGIN:STANDARD
TZOFFSETFROM:+0200
TZOFFSETTO:+0100
TZNAME:CET
DTSTART:20201025T010000
END:STANDARD
END:VTIMEZONE
BEGIN:VEVENT
DTSTART;TZID=Europe/Paris:20200118T100000
DTEND;TZID=Europe/Paris:20200118T120000
DTSTAMP:20260424T162537
CREATED:20200102T151111Z
LAST-MODIFIED:20200102T151401Z
UID:22563-1579341600-1579348800@www.lesachards.com
SUMMARY:Recyclage des sapins de Noël
DESCRIPTION:Ne jetez pas vos sapins de Noël ! \n\nApportez-les sur le parking de la salle La Belle Eugénie à la Chapelle-Achard le 18 janvier de 10h à 12h. Ils seront broyés et transformés en paillage pour être valorisés ! \nRenseignements dans vos mairies : 02 51 38 60 49
URL:https://www.lesachards.com/evenement/recyclage-des-sapins-de-noel/
LOCATION:Salle La Belle Eugenie\, La Chapelle-Achard\, Les Achards\, 85150
CATEGORIES:Environnement
ATTACH;FMTTYPE=image/jpeg:https://www.lesachards.com/wp-content/uploads/2019/12/sapin-noel.jpg
ORGANIZER;CN="Commune Les Achards":MAILTO:contact@lesachards.com
END:VEVENT
END:VCALENDAR