BEGIN:VCALENDAR
VERSION:2.0
PRODID:-//Site de la commune des Achards - ECPv6.10.3//NONSGML v1.0//EN
CALSCALE:GREGORIAN
METHOD:PUBLISH
X-ORIGINAL-URL:https://www.lesachards.com
X-WR-CALDESC:Évènements pour Site de la commune des Achards
REFRESH-INTERVAL;VALUE=DURATION:PT1H
X-Robots-Tag:noindex
X-PUBLISHED-TTL:PT1H
BEGIN:VTIMEZONE
TZID:Europe/Paris
BEGIN:DAYLIGHT
TZOFFSETFROM:+0100
TZOFFSETTO:+0200
TZNAME:CEST
DTSTART:20220327T010000
END:DAYLIGHT
BEGIN:STANDARD
TZOFFSETFROM:+0200
TZOFFSETTO:+0100
TZNAME:CET
DTSTART:20221030T010000
END:STANDARD
END:VTIMEZONE
BEGIN:VEVENT
DTSTART;TZID=Europe/Paris:20220210T153000
DTEND;TZID=Europe/Paris:20220210T193000
DTSTAMP:20260426T044215
CREATED:20211125T135207Z
LAST-MODIFIED:20220203T131903Z
UID:27682-1644507000-1644521400@www.lesachards.com
SUMMARY:DON DU SANG
DESCRIPTION:Don du sang à l’Espace Culturel\nDe 15h30 à 19h30
URL:https://www.lesachards.com/evenement/don-du-sang-10-janvier/
LOCATION:Espace culturel George-Sand\, 13 place Michel Vrignon\, Les Achards\, Vendée\, 85150\, France
CATEGORIES:Santé
ATTACH;FMTTYPE=image/jpeg:https://www.lesachards.com/wp-content/uploads/2016/01/don-du-sang.jpg
END:VEVENT
BEGIN:VEVENT
DTSTART;TZID=Europe/Paris:20220211T120000
DTEND;TZID=Europe/Paris:20220211T180000
DTSTAMP:20260426T044215
CREATED:20220203T131827Z
LAST-MODIFIED:20220203T131827Z
UID:28577-1644580800-1644602400@www.lesachards.com
SUMMARY:STOP COVID TOUR
DESCRIPTION:Vaccination et Dépistage gratuit et sans rendez-vous ouvert à tous.
URL:https://www.lesachards.com/evenement/stop-covid-tour-2/
LOCATION:Espace culturel George-Sand\, 13 place Michel Vrignon\, Les Achards\, Vendée\, 85150\, France
CATEGORIES:Santé
ATTACH;FMTTYPE=image/jpeg:https://www.lesachards.com/wp-content/uploads/2022/02/Affiche-Stop-Covid-Tour-85_2022-scaled.jpg
END:VEVENT
BEGIN:VEVENT
DTSTART;TZID=Europe/Paris:20220215T153000
DTEND;TZID=Europe/Paris:20220215T193000
DTSTAMP:20260426T044215
CREATED:20211125T135252Z
LAST-MODIFIED:20220110T141540Z
UID:27684-1644939000-1644953400@www.lesachards.com
SUMMARY:DON DU SANG
DESCRIPTION:Don du sang à l’Espace Culturel\nDe 15h30 à 19h30
URL:https://www.lesachards.com/evenement/don-du-sang-15-janvier/
LOCATION:Vendée
CATEGORIES:Santé
ATTACH;FMTTYPE=image/jpeg:https://www.lesachards.com/wp-content/uploads/2016/01/don-du-sang.jpg
END:VEVENT
END:VCALENDAR