BEGIN:VCALENDAR
VERSION:2.0
PRODID:-//Site de la commune des Achards - ECPv6.10.3//NONSGML v1.0//EN
CALSCALE:GREGORIAN
METHOD:PUBLISH
X-WR-CALNAME:Site de la commune des Achards
X-ORIGINAL-URL:https://www.lesachards.com
X-WR-CALDESC:Évènements pour Site de la commune des Achards
REFRESH-INTERVAL;VALUE=DURATION:PT1H
X-Robots-Tag:noindex
X-PUBLISHED-TTL:PT1H
BEGIN:VTIMEZONE
TZID:Europe/Paris
BEGIN:DAYLIGHT
TZOFFSETFROM:+0100
TZOFFSETTO:+0200
TZNAME:CEST
DTSTART:20210328T010000
END:DAYLIGHT
BEGIN:STANDARD
TZOFFSETFROM:+0200
TZOFFSETTO:+0100
TZNAME:CET
DTSTART:20211031T010000
END:STANDARD
END:VTIMEZONE
BEGIN:VEVENT
DTSTART;TZID=Europe/Paris:20211001T183000
DTEND;TZID=Europe/Paris:20211002T233000
DTSTAMP:20260425T183709
CREATED:20210107T120815Z
LAST-MODIFIED:20210910T075329Z
UID:25525-1633113000-1633217400@www.lesachards.com
SUMMARY:SPECTACLE "LES FABULEUSES"
DESCRIPTION:« Les Fabuleuses » vous présente leur show transformiste 100% inédit au sein de l’Espace Culturel de La Mothe-Achard ! \nUn spectacle mêlant strass\, paillettes\, partage et émotion pour 2h00 de représentation qui vous feront voyager. \nDalida\, Michelle Torr ou encore Sylvie Vartan et bien d’autres encore vous feront chanter et revivre les plus beaux moments à travers des visuels ou ressemblances époustouflantes.
URL:https://www.lesachards.com/evenement/spectacle-les-fabuleuses-2/
LOCATION:Espace culturel George-Sand\, 13 place Michel Vrignon\, Les Achards\, Vendée\, 85150\, France
CATEGORIES:Repas,Théâtre
ATTACH;FMTTYPE=image/png:https://www.lesachards.com/wp-content/uploads/2021/01/Les-fabuleuses.png
END:VEVENT
END:VCALENDAR