BEGIN:VCALENDAR
VERSION:2.0
PRODID:-//Site de la commune des Achards - ECPv6.10.3//NONSGML v1.0//EN
CALSCALE:GREGORIAN
METHOD:PUBLISH
X-WR-CALNAME:Site de la commune des Achards
X-ORIGINAL-URL:https://www.lesachards.com
X-WR-CALDESC:Évènements pour Site de la commune des Achards
REFRESH-INTERVAL;VALUE=DURATION:PT1H
X-Robots-Tag:noindex
X-PUBLISHED-TTL:PT1H
BEGIN:VTIMEZONE
TZID:Europe/Paris
BEGIN:DAYLIGHT
TZOFFSETFROM:+0100
TZOFFSETTO:+0200
TZNAME:CEST
DTSTART:20210328T010000
END:DAYLIGHT
BEGIN:STANDARD
TZOFFSETFROM:+0200
TZOFFSETTO:+0100
TZNAME:CET
DTSTART:20211031T010000
END:STANDARD
END:VTIMEZONE
BEGIN:VEVENT
DTSTART;TZID=Europe/Paris:20211119T203000
DTEND;TZID=Europe/Paris:20211119T223000
DTSTAMP:20260425T183458
CREATED:20211110T182829Z
LAST-MODIFIED:20211117T103654Z
UID:27481-1637353800-1637361000@www.lesachards.com
SUMMARY:"LE DINDON" PAR LES COMEDIENS CHAPELAIS ANNULÉ
DESCRIPTION:Les comédiens chapelais vous proposent une comédie en trois actes écrite par Georges Feydeau et mise en scène par Roger BLANCHET. \nSynopsis : \nLucienne est poursuivie jusque dans son salon par Pontagnac\, séducteur invétéré. Elle appelle à son secours Vatelin\, son mari qui reconnait en Pontagnac un vieil ami et cette situation l’amuse. Survient Rédillon\, amoureux transi de Lucienne qui le tient à distance. Alors?…\nSi Pontagnac n’avait pas menti en disant que sa femme habitait à Pau?…\nSi Vatelin n’avait pas fauté à Londres avec Maggy Soldignac? … Et si celle-ci n’avait pas accompagné son mari à Paris?…\nSi Soldignac ne retrouvait pas Armandine\, une adorable cocotte à chacun de ses voyages? …\nSi les Pinchard n’étaient pas venus fêter leur anniversaire de mariage? …\nSi Rédillon était plus résistant après une nuit d’amour?… Et si tout ce petit monde ne s’était pas retrouvé dans la même chambre du même hôtel?… \nSi Georges Feydeau n’avait pas le génie des situations qui s’enchainent et s’entremêlent\, agrémentées de dialogues irrésistibles? … Le DINDON serait alors resté dans sa basse-cour et n’aurait joué dans la cour des grands pour le régal des comédiens et des spectateurs. \nProgrammation : \n\nVendredis 19 \, 26 novembre et 3 décembre – 20:30\nSamedis 20\, 27 novembre et 4 décembre– 20:30\nDimanches 21 \, 28 novembre et 5 décembre – 14:30\nMardi 30 novembre – 20:30\n\nInformations pratiques : \nRéservations à partir du mardi 12 octobre\, en ligne ou par téléphone au 07.69.78.39.81 (de 19h à 21h le mardi et vendredi et de 10h à 12h le samedi) \nhttp://resa@comedienschapelais.com \nComédiens Chapelais | Troupe de théâtre amateur en Vendée \n \n 
URL:https://www.lesachards.com/evenement/le-dindon-par-les-comediens-chapelais/
LOCATION:Salle La Belle Eugenie\, La Chapelle-Achard\, Les Achards\, 85150
CATEGORIES:Théâtre
ATTACH;FMTTYPE=image/png:https://www.lesachards.com/wp-content/uploads/2021/11/2021-theatre-affiche-N°3.png
ORGANIZER;CN="les comediens chapelais":MAILTO:contact@comedienschapelais.com
END:VEVENT
END:VCALENDAR