BEGIN:VCALENDAR
VERSION:2.0
PRODID:-//Site de la commune des Achards - ECPv6.10.3//NONSGML v1.0//EN
CALSCALE:GREGORIAN
METHOD:PUBLISH
X-WR-CALNAME:Site de la commune des Achards
X-ORIGINAL-URL:https://www.lesachards.com
X-WR-CALDESC:Évènements pour Site de la commune des Achards
REFRESH-INTERVAL;VALUE=DURATION:PT1H
X-Robots-Tag:noindex
X-PUBLISHED-TTL:PT1H
BEGIN:VTIMEZONE
TZID:Europe/Paris
BEGIN:DAYLIGHT
TZOFFSETFROM:+0100
TZOFFSETTO:+0200
TZNAME:CEST
DTSTART:20260329T010000
END:DAYLIGHT
BEGIN:STANDARD
TZOFFSETFROM:+0200
TZOFFSETTO:+0100
TZNAME:CET
DTSTART:20261025T010000
END:STANDARD
END:VTIMEZONE
BEGIN:VEVENT
DTSTART;VALUE=DATE:20260424
DTEND;VALUE=DATE:20260427
DTSTAMP:20260424T151715
CREATED:20250731T081127Z
LAST-MODIFIED:20250731T081127Z
UID:39068-1776988800-1777247999@www.lesachards.com
SUMMARY:Théâtre "OSCAR ET LA DAME ROSE"
DESCRIPTION:Une adaptation théâtrale tendre et poétique\, d’après le roman d’Eric-Emmanuel Schmitt \nDouze jours de la vie d’Oscar\, cocasses et poétiques\, douze jours pleins de personnages drôles et émouvants. Ces douze jours seront peut-être les derniers mais grâce à mamie-Rose\, la « dame rose » qui noue avec Oscar un très fort lien d’amour\, ces douze jours deviendront légende. À l’origine jouée par une seule comédienne\, lisant les lettres d’Oscar ; cette version du best-seller d’Eric-Emmanuel Schmitt nous présente Oscar et Mamie Rose sur scène pour une nouvelle adaptation théâtrale tendre et poétique. \nDéconseillé aux moins de 12 ans. \nDe Eric Emmanuel-Schmitt\nAdaptation et mise en scène Olivier Martin\nAvec Delphine Chicoineau et Thomas Violleau \nDurée 1h15
URL:https://www.lesachards.com/evenement/theatre-oscar-et-la-dame-rose/
LOCATION:Le Chatbaret\, 4 rue du Chanoine Ferré La Chapelle-Achard\, Les Achards
CATEGORIES:Théâtre
ATTACH;FMTTYPE=image/jpeg:https://www.lesachards.com/wp-content/uploads/2025/07/oscaretladamerose-scaled.jpg
ORGANIZER;CN="Le Chatbaret":MAILTO:lechatbaret@gmail.com
END:VEVENT
BEGIN:VEVENT
DTSTART;TZID=Europe/Paris:20260425T103000
DTEND;TZID=Europe/Paris:20260425T120000
DTSTAMP:20260424T151715
CREATED:20260123T095838Z
LAST-MODIFIED:20260123T095838Z
UID:40185-1777113000-1777118400@www.lesachards.com
SUMMARY:HEURE DU CONTE
DESCRIPTION:Les histoires se suivent mais ne ressemblent pas ! Les bénévoles de la Médiathèque vous attendent nombreux pour partir à la découverte de nouveaux univers et personnages\, pour rêver toujours plus grand\, toujours plus loin ! \nInformations pratiques :\n• Ouvert à tous à partir de 3 ans \n• Gratuit\n• Réservation recommandée au 02 28 15 03 93 ou par mail à bibliotheques@cc-paysdesachards.fr
URL:https://www.lesachards.com/evenement/heure-du-conte-10/
LOCATION:Médiathèque\, 13 place Michel Vrignon La Mothe-Achard\, Les Achards\, 85150
CATEGORIES:Contes et lectures
ATTACH;FMTTYPE=image/jpeg:https://www.lesachards.com/wp-content/uploads/2026/01/heure-du-conte-les-achards-85-fma.jpg
END:VEVENT
BEGIN:VEVENT
DTSTART;TZID=Europe/Paris:20260425T203000
DTEND;TZID=Europe/Paris:20260425T223000
DTSTAMP:20260424T151715
CREATED:20260123T100014Z
LAST-MODIFIED:20260305T112105Z
UID:40187-1777149000-1777156200@www.lesachards.com
SUMMARY:CONCERT DE PRINTEMPS
DESCRIPTION:La chorale A Not’Portée fête ses 15 ans. \nConcert au profit de l’association « Kid’s day Vendée »
URL:https://www.lesachards.com/evenement/concert/
LOCATION:Espace culturel George-Sand\, 13 place Michel Vrignon\, Les Achards\, Vendée\, 85150\, France
CATEGORIES:Concert
ATTACH;FMTTYPE=image/jpeg:https://www.lesachards.com/wp-content/uploads/2026/01/Affiche-portrait-2026.jpg
ORGANIZER;CN="A Not'Port%C3%A9e":MAILTO:y.caillonneau@orange.fr
END:VEVENT
BEGIN:VEVENT
DTSTART;TZID=Europe/Paris:20260429T153000
DTEND;TZID=Europe/Paris:20260429T193000
DTSTAMP:20260424T151715
CREATED:20260123T103405Z
LAST-MODIFIED:20260123T103405Z
UID:40197-1777476600-1777491000@www.lesachards.com
SUMMARY:DON DU SANG
DESCRIPTION:Prenez rendez vous sur : https://dondesang.efs.sante.fr/trouver-une-collecte
URL:https://www.lesachards.com/evenement/don-du-sang-63/
LOCATION:Espace culturel George-Sand\, 13 place Michel Vrignon\, Les Achards\, Vendée\, 85150\, France
CATEGORIES:Santé
ATTACH;FMTTYPE=image/jpeg:https://www.lesachards.com/wp-content/uploads/2025/06/6447d33b8a0b3ad76466ffc115ed627_copie-don-.jpg
ORGANIZER;CN="Don du sang":MAILTO:isabelle.soulard@direccte.gouv.fr
END:VEVENT
BEGIN:VEVENT
DTSTART;TZID=Europe/Paris:20260504T203000
DTEND;TZID=Europe/Paris:20260504T223000
DTSTAMP:20260424T151715
CREATED:20260401T143719Z
LAST-MODIFIED:20260401T143719Z
UID:40921-1777926600-1777933800@www.lesachards.com
SUMMARY:CONSEIL MUNICIPAL
DESCRIPTION:Le conseil municipal aura lieu le lundi 4 mai à 20h30 dans la salle du conseil municipal – Mairie des Achards \n 
URL:https://www.lesachards.com/evenement/conseil-municipal-51/
LOCATION:Mairie\, Place du Vieux Château\, Les Achards\, 85150
ATTACH;FMTTYPE=image/jpeg:https://www.lesachards.com/wp-content/uploads/2025/06/e7ac7a36ce73999652eca7db3e4ed188_conseil-mu.jpg
ORGANIZER;CN="Municipalit%C3%A9":MAILTO:contact@lesachards.fr
END:VEVENT
BEGIN:VEVENT
DTSTART;TZID=Europe/Paris:20260506T100000
DTEND;TZID=Europe/Paris:20260506T113000
DTSTAMP:20260424T151715
CREATED:20260129T090143Z
LAST-MODIFIED:20260129T090143Z
UID:40218-1778061600-1778067000@www.lesachards.com
SUMMARY:ATELIER "JEU PEINS"
DESCRIPTION:A partir de 4 ans ( 8 personnes max)
URL:https://www.lesachards.com/evenement/atelier-jeu-peins-4/
LOCATION:Salle Saint-Exupéry\, Place de l'église La Chapelle-Achard\, Les Achards\, 85150
CATEGORIES:Ateliers,Manifestations culturelles (spectacles, concerts, théâtre, expos ...)
ATTACH;FMTTYPE=image/jpeg:https://www.lesachards.com/wp-content/uploads/2026/01/peinture.jpg
ORGANIZER;CN="Eclats d'Art":MAILTO:eclatsdart1@gmail.com
END:VEVENT
BEGIN:VEVENT
DTSTART;TZID=Europe/Paris:20260507T153000
DTEND;TZID=Europe/Paris:20260507T193000
DTSTAMP:20260424T151715
CREATED:20260129T090212Z
LAST-MODIFIED:20260129T090212Z
UID:40220-1778167800-1778182200@www.lesachards.com
SUMMARY:DON DU SANG
DESCRIPTION:Prenez rendez vous sur : https://dondesang.efs.sante.fr/trouver-une-collecte
URL:https://www.lesachards.com/evenement/don-du-sang-64/
LOCATION:Espace culturel George-Sand\, 13 place Michel Vrignon\, Les Achards\, Vendée\, 85150\, France
CATEGORIES:Santé
ATTACH;FMTTYPE=image/jpeg:https://www.lesachards.com/wp-content/uploads/2025/06/6447d33b8a0b3ad76466ffc115ed627_copie-don-.jpg
ORGANIZER;CN="Don du sang":MAILTO:isabelle.soulard@direccte.gouv.fr
END:VEVENT
BEGIN:VEVENT
DTSTART;VALUE=DATE:20260508
DTEND;VALUE=DATE:20260509
DTSTAMP:20260424T151715
CREATED:20260129T090343Z
LAST-MODIFIED:20260129T090343Z
UID:40224-1778198400-1778284799@www.lesachards.com
SUMMARY:TOURNOI DE FOOTBALL INTERCLUBS
DESCRIPTION:Organisé par le Football Club des Achards
URL:https://www.lesachards.com/evenement/tournoi-de-football-interclubs-4/
LOCATION:stade Pascal Xanatre
CATEGORIES:Manifestations sportives
ATTACH;FMTTYPE=image/jpeg:https://www.lesachards.com/wp-content/uploads/2025/01/images-1-1.jpg
ORGANIZER;CN="Football Club des Achards":MAILTO:542301@lfpl.fr
END:VEVENT
BEGIN:VEVENT
DTSTART;VALUE=DATE:20260508
DTEND;VALUE=DATE:20260525
DTSTAMP:20260424T151715
CREATED:20250731T100300Z
LAST-MODIFIED:20250731T100300Z
UID:39073-1778198400-1779667199@www.lesachards.com
SUMMARY:Comédie musicale "LE COMTE DE MONTE CRISTO"
DESCRIPTION:D’après l’oeuvre d’Alexandre Dumas – Comédie musicale – Nouvelle Version \nLe destin d’Edmond Dantès\, promu capitaine de navire\, et bientôt fiancé\, est bouleversé lorsqu’il est arrêté et jeté injustement dans les geôles du château d’If. Il y fait la connaissance d’un vieil abbé qui se dit en possession d’un trésor inestimable et que l’on croit fou. Ce vieil homme pourrait l’aider à s’évader et bien malgré lui à réaliser sa vengeance.  \nCréée en 2020 au théâtre Millandy de Luçon\, le spectacle ira jusqu’à l’Odéon de Marseille en décembre 2023. Il trouve aujourd’hui une nouvelle forme\, incarné par cinq artistes multipliant les rôles pour rendre à Dumas l’intensité de son chef d’oeuvre\, soutenu par l’élégance et la fougue d’un pianiste\, véritable homme orchestre.  \nPeut-être avez-vous lu le roman entré dans l’histoire de la littérature ? Eh bien\, grâce au spectacle qui va vous être présenté\, c’est bien vous qui entrerez au coeur de l’histoire d’Edmond Dantès devenu le Comte de Monte Cristo ! \nD’après Alexandre Dumas\nDialogues et livret d’ Olivier Martin\nMusiques de Michel Pradel\nMise en scène Olivier Martin \nAvec Thomas Violleau\, Charlie Mercier\, Fabien Saye\, Lucie Guignouard et Olivier Martin
URL:https://www.lesachards.com/evenement/comedie-musicale-le-comte-de-monte-cristo/
LOCATION:Le Chatbaret\, 4 rue du Chanoine Ferré La Chapelle-Achard\, Les Achards
CATEGORIES:Théâtre
ATTACH;FMTTYPE=image/jpeg:https://www.lesachards.com/wp-content/uploads/2025/07/montecristo-scaled.jpg
ORGANIZER;CN="Le Chatbaret":MAILTO:lechatbaret@gmail.com
END:VEVENT
BEGIN:VEVENT
DTSTART;TZID=Europe/Paris:20260508T103000
DTEND;TZID=Europe/Paris:20260508T120000
DTSTAMP:20260424T151715
CREATED:20260129T090257Z
LAST-MODIFIED:20260129T090257Z
UID:40222-1778236200-1778241600@www.lesachards.com
SUMMARY:COMMÉMORATION DU 8 MAI 1945
DESCRIPTION:Cette cérémonie se déroulera selon le programme suivant : \n\n10h30 – Rassemblement devant l’annexe de la mairie des Achards – quartier La Chapelle\nDéfilé\, cérémonie au monument aux morts et dépôt de gerbes.\n11h30 – Vin d’honneur offert par la municipalité à la salle Saint-Éxupéry – Place de l’Eglise
URL:https://www.lesachards.com/evenement/commemoration-du-8-mai-1945-4/
LOCATION:Centre-bourg La Chapelle-Achard\, La Chapelle-Achard\, Les Achards
CATEGORIES:Cérémonies
ATTACH;FMTTYPE=image/jpeg:https://www.lesachards.com/wp-content/uploads/2025/01/da6d5e7448797ac1cd920c18f8ed0a1f_copie-comm.jpg
ORGANIZER;CN="Municipalit%C3%A9":MAILTO:contact@lesachards.fr
END:VEVENT
BEGIN:VEVENT
DTSTART;TZID=Europe/Paris:20260510T090000
DTEND;TZID=Europe/Paris:20260510T170000
DTSTAMP:20260424T151715
CREATED:20260129T111010Z
LAST-MODIFIED:20260129T111010Z
UID:40226-1778403600-1778432400@www.lesachards.com
SUMMARY:TRAIL DU LAC ET NORDIC DES ACHARDS
DESCRIPTION:Organisé par Athlétic Club du Pays des Achards
URL:https://www.lesachards.com/evenement/trail-du-lac-et-nordic-des-achards-2/
LOCATION:Vendée
CATEGORIES:Manifestations sportives
ATTACH;FMTTYPE=image/jpeg:https://www.lesachards.com/wp-content/uploads/2025/01/c89f467d7c72dd012a1765e91c30c731_copie-trai.jpg
ORGANIZER;CN="Athl%C3%A9tic Club du Pays des Achards (ACPA)":MAILTO:acpa.joggers@gmail.com
END:VEVENT
BEGIN:VEVENT
DTSTART;VALUE=DATE:20260514
DTEND;VALUE=DATE:20260515
DTSTAMP:20260424T151715
CREATED:20260129T111049Z
LAST-MODIFIED:20260129T111049Z
UID:40228-1778716800-1778803199@www.lesachards.com
SUMMARY:TOURNOI OPEN BASKET
DESCRIPTION:
URL:https://www.lesachards.com/evenement/tournoi-open-basket-3/
LOCATION:Salle Antoine Rigaudeau\, Rue jean Bouin La Mothe-Achard\, Les Achards\, 85150
CATEGORIES:Manifestations sportives
ATTACH;FMTTYPE=image/jpeg:https://www.lesachards.com/wp-content/uploads/2024/01/phpKRijIf_1.jpg
ORGANIZER;CN="JAM Basket":MAILTO:jambasketclub.secretariat@gmail.com
END:VEVENT
BEGIN:VEVENT
DTSTART;TZID=Europe/Paris:20260520T150000
DTEND;TZID=Europe/Paris:20260520T170000
DTSTAMP:20260424T151715
CREATED:20260129T111232Z
LAST-MODIFIED:20260129T111232Z
UID:40230-1779289200-1779296400@www.lesachards.com
SUMMARY:ATELIER DÉCOUVERTE "GALETS"
DESCRIPTION:Organisé par « Eclats d’Art »
URL:https://www.lesachards.com/evenement/atelier-decouverte-galets/
LOCATION:Salle Saint-Exupéry\, Place de l'église La Chapelle-Achard\, Les Achards\, 85150
CATEGORIES:Ateliers
ATTACH;FMTTYPE=image/jpeg:https://www.lesachards.com/wp-content/uploads/2026/01/galets.jpg
ORGANIZER;CN="Eclats d'Art":MAILTO:eclatsdart1@gmail.com
END:VEVENT
BEGIN:VEVENT
DTSTART;TZID=Europe/Paris:20260521T104500
DTEND;TZID=Europe/Paris:20260521T113000
DTSTAMP:20260424T151715
CREATED:20260129T111347Z
LAST-MODIFIED:20260129T111347Z
UID:40235-1779360300-1779363000@www.lesachards.com
SUMMARY:BÉBÉS LECTEURS
DESCRIPTION:Les livres\, c’est bon pour les bébés ! \nPour les 0-3 ans
URL:https://www.lesachards.com/evenement/bebes-lecteurs-34/
LOCATION:Médiathèque\, 13 place Michel Vrignon La Mothe-Achard\, Les Achards\, 85150
CATEGORIES:Contes et lectures
ATTACH;FMTTYPE=image/jpeg:https://www.lesachards.com/wp-content/uploads/2025/12/bebes-lecteurs-pays-des-achards-85-fma.jpg
END:VEVENT
BEGIN:VEVENT
DTSTART;TZID=Europe/Paris:20260523T203000
DTEND;TZID=Europe/Paris:20260523T223000
DTSTAMP:20260424T151715
CREATED:20260129T111517Z
LAST-MODIFIED:20260129T111517Z
UID:40237-1779568200-1779575400@www.lesachards.com
SUMMARY:CONCERT DE L'ESPOIR
DESCRIPTION:Concert organisé par la Chorale Cantare au profit des Restos du Coeur
URL:https://www.lesachards.com/evenement/concert-de-lespoir-6/
LOCATION:Espace culturel George-Sand\, 13 place Michel Vrignon\, Les Achards\, Vendée\, 85150\, France
CATEGORIES:Concert
ATTACH;FMTTYPE=image/jpeg:https://www.lesachards.com/wp-content/uploads/2026/01/P.14-Cantare2-scaled.jpg
ORGANIZER;CN="Chorale Cantare":MAILTO:bernard.gaudin@wanadoo.fr
END:VEVENT
BEGIN:VEVENT
DTSTART;TZID=Europe/Paris:20260524T073000
DTEND;TZID=Europe/Paris:20260524T100000
DTSTAMP:20260424T151715
CREATED:20260129T111724Z
LAST-MODIFIED:20260129T111737Z
UID:40240-1779607800-1779616800@www.lesachards.com
SUMMARY:RANDO VTT ET PEDESTRE
DESCRIPTION:L’APEL La Source organise une randonnée pédestre et VTT. \n4 circuits pédestres  \n4 circuits VTT  \nCafé & brioche offerts au départ. \nGrillades & bières / sodas offerts à l’arrivée. \nPrévoir son gobelet pour les ravitaillements. \n 
URL:https://www.lesachards.com/evenement/rando-pedestre-vtt/
LOCATION:Ecole La Source\, 5 rue du Chanoine-Ferré\, Les Achards\, 85150
CATEGORIES:Evénements scolaires,Manifestations sportives,promenade
ATTACH;FMTTYPE=image/jpeg:https://www.lesachards.com/wp-content/uploads/2026/01/balades-pied-velo-vie-et-boulogne.jpg
END:VEVENT
BEGIN:VEVENT
DTSTART;VALUE=DATE:20260529
DTEND;VALUE=DATE:20260601
DTSTAMP:20260424T151715
CREATED:20260129T111955Z
LAST-MODIFIED:20260129T111955Z
UID:40244-1780012800-1780271999@www.lesachards.com
SUMMARY:SALON ZONEEXPO
DESCRIPTION:Organisé par Achard Entreprises
URL:https://www.lesachards.com/evenement/salon-zoneexpo/
LOCATION:Vendée
CATEGORIES:Salons
ATTACH;FMTTYPE=image/jpeg:https://www.lesachards.com/wp-content/uploads/2026/01/slid6.jpg
END:VEVENT
BEGIN:VEVENT
DTSTART;TZID=Europe/Paris:20260530T103000
DTEND;TZID=Europe/Paris:20260530T120000
DTSTAMP:20260424T151715
CREATED:20260129T112045Z
LAST-MODIFIED:20260129T112045Z
UID:40249-1780137000-1780142400@www.lesachards.com
SUMMARY:HEURE DU CONTE
DESCRIPTION:Les histoires se suivent mais ne ressemblent pas ! Les bénévoles de la Médiathèque vous attendent nombreux pour partir à la découverte de nouveaux univers et personnages\, pour rêver toujours plus grand\, toujours plus loin ! \nInformations pratiques :\n• Ouvert à tous à partir de 3 ans \n• Gratuit\n• Réservation recommandée au 02 28 15 03 93 ou par mail à bibliotheques@cc-paysdesachards.fr
URL:https://www.lesachards.com/evenement/heure-du-conte-11/
LOCATION:Médiathèque\, 13 place Michel Vrignon La Mothe-Achard\, Les Achards\, 85150
CATEGORIES:Contes et lectures
ATTACH;FMTTYPE=image/jpeg:https://www.lesachards.com/wp-content/uploads/2026/01/heure-du-conte-les-achards-85-fma.jpg
END:VEVENT
BEGIN:VEVENT
DTSTART;TZID=Europe/Paris:20260530T140000
DTEND;TZID=Europe/Paris:20260530T233000
DTSTAMP:20260424T151715
CREATED:20260129T113206Z
LAST-MODIFIED:20260129T134615Z
UID:40256-1780149600-1780183800@www.lesachards.com
SUMMARY:FESTIVAL DE RAP "RAMENE TON FLOW"
DESCRIPTION:Rendez-vous samedi 30 mai 2026 pour la quatrième édition du festival Ramène ton Flow aux Achards. \nNouvelle formule : le festival se déroulera en intérieur (le In) de 19h à 1h30 dans l’espace culturel George-Sand aux Achards et en extérieur (le Off) de 14 à 19h devant l’espace culturel.\n· IN : Busta Flex\, Nicko & Gonzo\, Yamä\, T2ITS\, La Triture et Open Mic\n· OFF : Graff\, démo de Break Dance\, expo et DJ Set // GRATUIT \nBar et restauration sur place\, parkings.
URL:https://www.lesachards.com/evenement/festival-de-rap-ramene-ton-flow/
LOCATION:Espace culturel George-Sand\, 13 place Michel Vrignon\, Les Achards\, Vendée\, 85150\, France
CATEGORIES:Manifestations culturelles (spectacles, concerts, théâtre, expos ...)
ATTACH;FMTTYPE=image/jpeg:https://www.lesachards.com/wp-content/uploads/2026/01/Ramene-ton-flow.jpg
END:VEVENT
BEGIN:VEVENT
DTSTART;TZID=Europe/Paris:20260530T150000
DTEND;TZID=Europe/Paris:20260530T170000
DTSTAMP:20260424T151715
CREATED:20260129T112225Z
LAST-MODIFIED:20260129T112225Z
UID:40251-1780153200-1780160400@www.lesachards.com
SUMMARY:STAGE "MOSAÏQUE"
DESCRIPTION:A partir de 10 ans  (10 personnes max)
URL:https://www.lesachards.com/evenement/stage-mosaique/
LOCATION:Vendée
CATEGORIES:Ateliers
ATTACH;FMTTYPE=image/jpeg:https://www.lesachards.com/wp-content/uploads/2026/01/mosaique.jpeg
ORGANIZER;CN="Eclats d'Art":MAILTO:eclatsdart1@gmail.com
END:VEVENT
BEGIN:VEVENT
DTSTART;VALUE=DATE:20260601
DTEND;VALUE=DATE:20260701
DTSTAMP:20260424T151715
CREATED:20260324T143227Z
LAST-MODIFIED:20260324T143227Z
UID:40806-1780272000-1782863999@www.lesachards.com
SUMMARY:DE L'ART EN BIB  "Exposition d’Emmanuelle Houssais"
DESCRIPTION:Pour sa 7e édition\, l’exposition artistique reprend ses quartiers en invitant des artistes à s’afficher sur les murs des bibliothèques du Réseau. Une occasion unique de découvrir de nouveaux talents dans des domaines aussi riches qu’inattendus : illustration\, peinture\, photo\, éco-vannerie et art de la plume ! \nÀ la Médiathèque des Achards\, c’est l’autrice et illustratrice nantaise Emmanuelle Houssais qui s’invite. Dans ses albums pour la jeunesse\, elle explore la forêt sauvage\, la biodiversité des sols\, l’univers ou l’infiniment petit… Elle y fait l’éloge de toutes les formes du vivant\, visibles et invisibles. Au fil de ses créations\, elle affine ses techniques d’illustration mêlant peinture\, découpages et pochoirs.  À partir d’illustrations originales et de panneaux pédagogiques\, Emmanuelle Houssais propose de découvrir dans son exposition toutes les étapes de création de son album Petite étoile dans l’océan\, publié en 2025 aux éditions du Ricochet. De nombreux jeux viennent enrichir l’exposition : cherche et trouve géant\, Mémory\, puzzles en bois\, jeu de dominos\, coloriages\, jeu de plateau et jeux sonores. \nAccessible durant les horaires d’ouverture.
URL:https://www.lesachards.com/evenement/de-lart-en-bib-exposition-demmanuelle-houssais/
LOCATION:Médiathèque\, 13 place Michel Vrignon La Mothe-Achard\, Les Achards\, 85150
CATEGORIES:Manifestations culturelles (spectacles, concerts, théâtre, expos ...)
ATTACH;FMTTYPE=image/jpeg:https://www.lesachards.com/wp-content/uploads/2026/03/emmanuelle-houssais-les-achards-85-fma.jpg
END:VEVENT
BEGIN:VEVENT
DTSTART;TZID=Europe/Paris:20260601T203000
DTEND;TZID=Europe/Paris:20260601T223000
DTSTAMP:20260424T151715
CREATED:20260401T143802Z
LAST-MODIFIED:20260401T143802Z
UID:40923-1780345800-1780353000@www.lesachards.com
SUMMARY:CONSEIL MUNICIPAL
DESCRIPTION:Le conseil municipal aura lieu le lundi 1er juin à 20h30 dans la salle du conseil municipal – Mairie des Achards \n 
URL:https://www.lesachards.com/evenement/conseil-municipal-52/
LOCATION:Mairie\, Place du Vieux Château\, Les Achards\, 85150
ATTACH;FMTTYPE=image/jpeg:https://www.lesachards.com/wp-content/uploads/2025/06/e7ac7a36ce73999652eca7db3e4ed188_conseil-mu.jpg
ORGANIZER;CN="Municipalit%C3%A9":MAILTO:contact@lesachards.fr
END:VEVENT
BEGIN:VEVENT
DTSTART;TZID=Europe/Paris:20260602T104500
DTEND;TZID=Europe/Paris:20260602T113000
DTSTAMP:20260424T151715
CREATED:20260129T125330Z
LAST-MODIFIED:20260129T125330Z
UID:40261-1780397100-1780399800@www.lesachards.com
SUMMARY:BÉBÉS LECTEURS
DESCRIPTION:Les livres\, c’est bon pour les bébés ! \nPour les 0-3 ans
URL:https://www.lesachards.com/evenement/bebes-lecteurs-35/
LOCATION:Bibliothèque\, 22 rue du Général de Gaulle La Chapelle-Achard\, Les Achards\, 85150
CATEGORIES:Contes et lectures
ATTACH;FMTTYPE=image/jpeg:https://www.lesachards.com/wp-content/uploads/2025/12/bebes-lecteurs-pays-des-achards-85-fma.jpg
ORGANIZER;CN="Biblioth%C3%A8que des Achards (La Chapelle-Achard)":MAILTO:bibliotheques@cc-paysdesachards.fr
END:VEVENT
BEGIN:VEVENT
DTSTART;TZID=Europe/Paris:20260603T100000
DTEND;TZID=Europe/Paris:20260603T113000
DTSTAMP:20260424T151715
CREATED:20260129T125356Z
LAST-MODIFIED:20260129T125356Z
UID:40263-1780480800-1780486200@www.lesachards.com
SUMMARY:ATELIER "JEU PEINS"
DESCRIPTION:A partir de 4 ans ( 8 personnes max)
URL:https://www.lesachards.com/evenement/atelier-jeu-peins-5/
LOCATION:Salle Saint-Exupéry\, Place de l'église La Chapelle-Achard\, Les Achards\, 85150
CATEGORIES:Ateliers,Manifestations culturelles (spectacles, concerts, théâtre, expos ...)
ATTACH;FMTTYPE=image/jpeg:https://www.lesachards.com/wp-content/uploads/2026/01/peinture.jpg
ORGANIZER;CN="Eclats d'Art":MAILTO:eclatsdart1@gmail.com
END:VEVENT
BEGIN:VEVENT
DTSTART;VALUE=DATE:20260605
DTEND;VALUE=DATE:20260607
DTSTAMP:20260424T151715
CREATED:20250731T115448Z
LAST-MODIFIED:20250731T115448Z
UID:39079-1780617600-1780790399@www.lesachards.com
SUMMARY:LES SOIRÉES CAFÉ-THÉÂTRE
DESCRIPTION:Les soirées Café-Théâtre\, spectacle amateur \nRendez-vous incontournable du Chatbaret\, ce spectacle est une prestation inédite de bonne humeur avec les artistes amateurs du Chatbaret pour des éclats d’humour sous toutes ses formes. Un cocktail à déguster sans modération ! \nMise en scène Romain Bonnet \n\n05 Juin 2026\, 20:30\n06 Juin 2026\, 20:30
URL:https://www.lesachards.com/evenement/les-soirees-cafe-theatre-4/
LOCATION:Le Chatbaret\, 4 rue du Chanoine Ferré La Chapelle-Achard\, Les Achards
CATEGORIES:Théâtre
ATTACH;FMTTYPE=image/jpeg:https://www.lesachards.com/wp-content/uploads/2025/07/cafetheatre-scaled.jpg
ORGANIZER;CN="Le Chatbaret":MAILTO:lechatbaret@gmail.com
END:VEVENT
BEGIN:VEVENT
DTSTART;TZID=Europe/Paris:20260610T143000
DTEND;TZID=Europe/Paris:20260610T153000
DTSTAMP:20260424T151715
CREATED:20260324T143641Z
LAST-MODIFIED:20260324T143641Z
UID:40811-1781101800-1781105400@www.lesachards.com
SUMMARY:ATELIER FRESQUE COLLECTIVE
DESCRIPTION:Après la lecture de l’album Petite Étoile dans l’Océan\, réalisation d’une fresque en peinture d’un décor sous-marin avec des pochoirs. \nPar Emmanuelle Houssais
URL:https://www.lesachards.com/evenement/atelier-fresque-collective/
LOCATION:Médiathèque\, 13 place Michel Vrignon La Mothe-Achard\, Les Achards\, 85150
CATEGORIES:Ateliers
ATTACH;FMTTYPE=image/jpeg:https://www.lesachards.com/wp-content/uploads/2026/03/emmanuelle-houssais-les-achards-85-fma.jpg
END:VEVENT
BEGIN:VEVENT
DTSTART;TZID=Europe/Paris:20260610T143000
DTEND;TZID=Europe/Paris:20260805T153000
DTSTAMP:20260424T151715
CREATED:20260324T144233Z
LAST-MODIFIED:20260324T144233Z
UID:40815-1781101800-1785943800@www.lesachards.com
SUMMARY:ATELIER FRESQUE COLLECTIVE
DESCRIPTION:Après la lecture de l’album Petite Étoile dans l’Océan\, réalisation d’une fresque en peinture d’un décor sous-marin avec des pochoirs. \nPar Emmanuelle Houssais
URL:https://www.lesachards.com/evenement/atelier-fresque-collective-2/
LOCATION:Médiathèque\, 13 place Michel Vrignon La Mothe-Achard\, Les Achards\, 85150
CATEGORIES:Ateliers
ATTACH;FMTTYPE=image/jpeg:https://www.lesachards.com/wp-content/uploads/2026/03/emmanuelle-houssais-les-achards-85-fma.jpg
END:VEVENT
BEGIN:VEVENT
DTSTART;TZID=Europe/Paris:20260611T104500
DTEND;TZID=Europe/Paris:20260611T113000
DTSTAMP:20260424T151715
CREATED:20260129T130507Z
LAST-MODIFIED:20260129T130507Z
UID:40265-1781174700-1781177400@www.lesachards.com
SUMMARY:BÉBÉS LECTEURS
DESCRIPTION:Les livres\, c’est bon pour les bébés ! \nPour les 0-3 ans
URL:https://www.lesachards.com/evenement/bebes-lecteurs-36/
LOCATION:Médiathèque\, 13 place Michel Vrignon La Mothe-Achard\, Les Achards\, 85150
CATEGORIES:Contes et lectures
ATTACH;FMTTYPE=image/jpeg:https://www.lesachards.com/wp-content/uploads/2025/12/bebes-lecteurs-pays-des-achards-85-fma.jpg
END:VEVENT
BEGIN:VEVENT
DTSTART;TZID=Europe/Paris:20260612T200000
DTEND;TZID=Europe/Paris:20260612T233000
DTSTAMP:20260424T151715
CREATED:20260129T130745Z
LAST-MODIFIED:20260129T130745Z
UID:40267-1781294400-1781307000@www.lesachards.com
SUMMARY:FÊTE DE LA MUSIQUE
DESCRIPTION:VENDREDI 12 JUIN : QUAND LA MUSIQUE PORTE BONHEUR AUX ACHARDS \nComme chaque année\, la Fête de la musique métamorphose le cœur des Achards en scène à ciel ouvert.  \nLes commerçants s’associent à l’événement pour offrir une pause gourmande aux promeneurs : rendez-vous dès 19h00 Place de l’Hôtel de Ville et Place des Halles pour déguster pizzas\, street food\, boissons fraîches et autres gourmandises proposés par les bars\, pizzerias et food-trucks locaux. \nPour garantir la sécurité\, le centre-bourg sera fermé à la circulation à partir de 18h00\, et certains parkings seront inaccessibles dès 8h du matin. \n 
URL:https://www.lesachards.com/evenement/fete-de-la-musique-7/
LOCATION:centre bourg\, Les Achards\, 85150
CATEGORIES:Manifestations culturelles (spectacles, concerts, théâtre, expos ...)
ATTACH;FMTTYPE=image/jpeg:https://www.lesachards.com/wp-content/uploads/2026/01/AFFICHE-FDM-2026-scaled.jpg
ORGANIZER;CN="Municipalit%C3%A9":MAILTO:contact@lesachards.fr
END:VEVENT
BEGIN:VEVENT
DTSTART;TZID=Europe/Paris:20260613T090000
DTEND;TZID=Europe/Paris:20260613T130000
DTSTAMP:20260424T151715
CREATED:20260129T130950Z
LAST-MODIFIED:20260129T130950Z
UID:40270-1781341200-1781355600@www.lesachards.com
SUMMARY:VIDE TA DECHET'
DESCRIPTION:Faites le tri chez vous !\nUne zone de don sera ouverte pour déposer vos objets encore utilisables.
URL:https://www.lesachards.com/evenement/vide-ta-dechet/
LOCATION:Déchèterie des Achards\, ZA Sud-Est\, Les Achards\, 85150
CATEGORIES:Vides-greniers
ATTACH;FMTTYPE=image/jpeg:https://www.lesachards.com/wp-content/uploads/2026/01/dechet-scaled.jpg
ORGANIZER;CN="Communaut%C3%A9 de communes du Pays des Achards":MAILTO:contact@cc-paydesachards.fr
END:VEVENT
END:VCALENDAR